BEGIN:VCALENDAR
VERSION:2.0
PRODID:-//ChamberMaster//Event Calendar 2.0//EN
METHOD:PUBLISH
X-PUBLISHED-TTL:P3D
REFRESH-INTERVAL:P3D
CALSCALE:GREGORIAN
BEGIN:VEVENT
DTSTART:20210219T150000Z
DTEND:20210219T160000Z
X-MICROSOFT-CDO-ALLDAYEVENT:FALSE
SUMMARY:Coffee with the Chair & CEO
DESCRIPTION:Coffee with the Chair is a once a month event hosted by the Chamber's 2020/2021 Board Chair\, Chris McGilvray. During the meeting Chris\, and Scott Cook\, Chamber CEO take member questions and update attendees on Chamber activities. In addition\, there are often special guest conversations. February's conversation will feature Dr. Tony Pearson with Longmont United Hospital Centura. Tony will give  an update on the vaccine rollout.
X-ALT-DESC;FMTTYPE=text/html:<p style="font-weight:400\; line-height: 1.7em\;">Coffee with the Chair is a once a month event hosted by the Chamber&#39\;s 2020/2021 Board Chair\, Chris McGilvray. During the meeting Chris\, and Scott Cook\, Chamber CEO take member questions and update attendees on Chamber activities. In addition\, there are often special guest conversations. February&#39\;s conversation will feature Dr. Tony Pearson with Longmont United Hospital Centura. Tony will give&nbsp\; an update on the vaccine rollout.</p>\n
LOCATION:
UID:e.3083.7767
SEQUENCE:3
DTSTAMP:20260425T005337Z
URL:https://members.longmontchamber.org/events/details/coffee-with-the-chair-ceo-02-19-2021-7767
END:VEVENT

END:VCALENDAR
