BEGIN:VCALENDAR
VERSION:2.0
PRODID:-//ChamberMaster//Event Calendar 2.0//EN
METHOD:PUBLISH
X-PUBLISHED-TTL:P3D
REFRESH-INTERVAL:P3D
CALSCALE:GREGORIAN
BEGIN:VEVENT
DTSTART:20210521T140000Z
DTEND:20210521T150000Z
X-MICROSOFT-CDO-ALLDAYEVENT:FALSE
SUMMARY:Coffee with the Chair & CEO
DESCRIPTION:Coffee with the Chair is a once a month event hosted by the Chamber's 2020/2021 Board Chair\, Chris McGilvray. During the meeting Chris\, and Scott Cook\, Chamber CEO take member questions and update attendees on Chamber activities. In addition\, there are often special guest conversations. For May\, Mike Zimmerman with Flatirons Bank will share interesting local numbers on PPP and how it impacted our local economy.
X-ALT-DESC;FMTTYPE=text/html:<p style="font-weight:400\; line-height: 1.7em\;">Coffee with the Chair is a once a month event hosted by the Chamber&#39\;s 2020/2021 Board Chair\, Chris McGilvray. During the meeting Chris\, and Scott Cook\, Chamber CEO take member questions and update attendees on Chamber activities. In addition\, there are often special guest conversations. For May\, Mike Zimmerman&nbsp\;with Flatirons Bank will share interesting local numbers on PPP and how it impacted our local economy.&nbsp\;</p>\n
LOCATION:
UID:e.3083.7770
SEQUENCE:3
DTSTAMP:20260424T171325Z
URL:https://members.longmontchamber.org/events/details/coffee-with-the-chair-ceo-05-21-2021-7770
END:VEVENT

END:VCALENDAR
