BEGIN:VCALENDAR
VERSION:2.0
PRODID:-//ChamberMaster//Event Calendar 2.0//EN
METHOD:PUBLISH
X-PUBLISHED-TTL:P3D
REFRESH-INTERVAL:P3D
CALSCALE:GREGORIAN
BEGIN:VEVENT
DTSTART:20191120T150000Z
DTEND:20191120T160000Z
X-MICROSOFT-CDO-ALLDAYEVENT:FALSE
SUMMARY:Coffee with the Chair & CEO
DESCRIPTION:The Board Chair and Chamber CEO invite our members to take part in an open conversation at the Chamber.\n\n\n\nPlease send your primary contact to this event to take part in the conversation!
X-ALT-DESC;FMTTYPE=text/html:<br />\n<span style="color: black\;"><span style="font-family: &quot\;century gothic&quot\;\, sans-serif\;"><span style="font-size: 12pt\;">The Board Chair and Chamber CEO invite our members to take part in an open conversation at the Chamber.</span></span></span><br />\n<br />\n<font color="#000000" face="century gothic\, sans-serif"><span style="font-size: 16px\;">Please send your primary contact to this event to take part in the conversation!</span></font>
LOCATION:Longmont Area Chamber of Commerce Conference Room 528 Main Street Longmont
UID:e.3083.5382
SEQUENCE:3
DTSTAMP:20260426T005459Z
URL:https://members.longmontchamber.org/events/details/coffee-with-the-chair-ceo-11-20-2019-5382
END:VEVENT

END:VCALENDAR
