BEGIN:VCALENDAR
VERSION:2.0
PRODID:-//ChamberMaster//Event Calendar 2.0//EN
METHOD:PUBLISH
X-PUBLISHED-TTL:P3D
REFRESH-INTERVAL:P3D
CALSCALE:GREGORIAN
BEGIN:VEVENT
DTSTART:20200625T140000Z
DTEND:20200625T150000Z
X-MICROSOFT-CDO-ALLDAYEVENT:FALSE
SUMMARY:Coffee with the Chair & CEO
DESCRIPTION:The Board Chair and Chamber CEO invite all members to hear about what is new at the Longmont Chamber and provide insight and feedback about their business to the Chamber.
X-ALT-DESC;FMTTYPE=text/html:The Board Chair and Chamber CEO invite all members to hear about what is new at the Longmont Chamber and provide insight and feedback about their business to the Chamber.&nbsp\;
LOCATION:The Longmont Area Chamber of Commerce 528 Main Street Longmont\, CO 80501
UID:e.3083.7411
SEQUENCE:3
DTSTAMP:20260425T133320Z
URL:https://members.longmontchamber.org/events/details/coffee-with-the-chair-ceo-7411
END:VEVENT

END:VCALENDAR
