BEGIN:VCALENDAR
VERSION:2.0
PRODID:-//ChamberMaster//Event Calendar 2.0//EN
METHOD:PUBLISH
X-PUBLISHED-TTL:P3D
REFRESH-INTERVAL:P3D
CALSCALE:GREGORIAN
BEGIN:VEVENT
DTSTART:20191130T170000Z
DTEND:20191130T213000Z
X-MICROSOFT-CDO-ALLDAYEVENT:FALSE
SUMMARY:Colorado Aromatics Small Business Saturday
DESCRIPTION:Come shop local for skin care and more. We will have snacks and drawings. All of our products will be 10% off that day. We will be open from 10-2:30. Tag your location on social media and get a free lip balm tube. Musician Sharon Glassman will be singing 'Smile Songs' for the Holiday and showing her new line of hoodies\, T-shirts and art prints that sing.\n\nCan't make it? Order online for Cyber Monday (December 2) and get 10% off using coupon code 'cyber'\n\n340 Lashley Street\, Longmont
X-ALT-DESC;FMTTYPE=text/html:Come shop local for skin care and more. We will have snacks and drawings. All of our products will be 10% off that day. We will be open from 10-2:30. Tag your location on social media and get a free lip balm tube. Musician Sharon Glassman will be singing &lsquo\;Smile Songs&rsquo\; for the Holiday and showing her new line of hoodies\, T-shirts and art prints that sing.<br />\nCan&rsquo\;t make it? Order online for Cyber Monday (December 2) and get 10% off using coupon code &lsquo\;cyber&rsquo\;<br />\n340 Lashley Street\, Longmont
LOCATION:340 Lashley Street\, Longmont CO
UID:e.3083.7359
SEQUENCE:3
DTSTAMP:20260425T233144Z
URL:https://members.longmontchamber.org/events/details/colorado-aromatics-small-business-saturday-7359
END:VEVENT

END:VCALENDAR
