BEGIN:VCALENDAR
VERSION:2.0
PRODID:-//ChamberMaster//Event Calendar 2.0//EN
METHOD:PUBLISH
X-PUBLISHED-TTL:P3D
REFRESH-INTERVAL:P3D
CALSCALE:GREGORIAN
BEGIN:VEVENT
DTSTART:20241015T220000Z
DTEND:20241016T020000Z
X-MICROSOFT-CDO-ALLDAYEVENT:FALSE
SUMMARY:Colorado Travel Expo
DESCRIPTION:Bill and Teri Beaver\, owners of Expedia Cruises\, would like to invite you to the Colorado Travel Expo at the Parkway Food Hall on October 15\, 4-8pm. Make your vacation dreams a reality where all of the resources and experts you need will be in one place! There is no entrance fee\, and you'll have access to special offers for your LAND or SEA vacation from cruise lines\, tour operators\, resorts and travel brands presenting and exhibiting at the show.\n\n\n\nCLICK HERE TO LEARN MORE AND REGISTER
X-ALT-DESC;FMTTYPE=text/html:<span style="color:rgb(111\, 114\, 135)\; font-family:neue plak\,-apple-system\,system-ui\,roboto\,helvetica neue\,helvetica\,tahoma\,arial\,sans-serif\; font-size:16px">Bill and Teri Beaver\, owners of Expedia Cruises\, would like to invite you to the Colorado Travel Expo at the Parkway Food Hall on October 15\, 4-8pm. Make your vacation dreams a reality where all of the resources and experts you need will be in one place! There is no entrance fee\, and you&#39\;ll have access to special offers for your <strong>LAND</strong> or <strong>SEA</strong> vacation from cruise lines\, tour operators\, resorts and travel brands presenting and exhibiting at the show.<br />\n<br />\n<a href="https://www.eventbrite.com/e/colorado-travel-expo-tickets-1007948991567"><strong>CLICK HERE TO LEARN MORE AND REGISTER</strong></a></span>
LOCATION:Parkway Food Hall at the corner of Ken Pratt and Main Street\, 700 Ken Pratt Blvd. Suite 200.
UID:e.3083.10233
SEQUENCE:3
DTSTAMP:20260421T235636Z
URL:https://members.longmontchamber.org/events/details/colorado-travel-expo-10233
END:VEVENT

END:VCALENDAR
