BEGIN:VCALENDAR
VERSION:2.0
PRODID:-//ChamberMaster//Event Calendar 2.0//EN
METHOD:PUBLISH
X-PUBLISHED-TTL:P3D
REFRESH-INTERVAL:P3D
CALSCALE:GREGORIAN
BEGIN:VEVENT
DTSTART:20200228T153000Z
DTEND:20200228T163000Z
X-MICROSOFT-CDO-ALLDAYEVENT:FALSE
SUMMARY:COLTAF Training
DESCRIPTION:Please join Flatirons Bank\, a Prime Partners Plus bank\, and the Longmont Area Chamber of Commerce for an overview of the requirements for attorney trust accounts in Colorado and best practices for maintaining and administering a trust account. Course presented by Jessica Wagner\, Flatirons Bank Legal Counsel.\n\n\n\n Attorney Trust Account Refresher Course\n\n  Separation of Funds \n\n  Delegation of Duties\n\n  Interest Earned \n\n  Commingling\n\n  Advanced Fees & Costs\n\n  Handling Disputes\n\n  Credit Card Payments for Advanced Retainers\n\n  Accounting Records\n\n\n\nBreakfast and Coffee will be available beginning at 8:15. Parking is free in the lot behind the Chamber Offices. Please RSVP to Dietra Porter of Flatirons Bank dporter@flatirons.bank  (720) 473-5136\, or by calling Jessica Carson at the Chamber Office (303) 776-5295.
X-ALT-DESC;FMTTYPE=text/html:Please join Flatirons Bank\, a Prime Partners Plus bank\, and the Longmont Area Chamber of Commerce for an overview of the requirements for attorney trust accounts in Colorado and best practices for maintaining and administering a trust account. Course presented by Jessica Wagner\, Flatirons Bank Legal Counsel.<br />\n<br />\n&nbsp\;Attorney Trust Account Refresher Course<br />\n&bull\; Separation of Funds&nbsp\;<br />\n&bull\; Delegation of Duties<br />\n&bull\; Interest Earned&nbsp\;<br />\n&bull\; Commingling<br />\n&bull\; Advanced Fees &amp\; Costs<br />\n&bull\; Handling Disputes<br />\n&bull\; Credit Card Payments for Advanced Retainers<br />\n&bull\; Accounting Records<br />\n<br />\nBreakfast and Coffee will be available beginning at 8:15. Parking is free in the lot behind the Chamber Offices. Please RSVP to Dietra Porter of Flatirons Bank dporter@flatirons.bank&nbsp\; (720) 473-5136\, or by calling Jessica Carson at the Chamber Office (303) 776-5295.
LOCATION:Longmont Area Chamber of Commerce 528 Main St. Longmont\, CO 80501
UID:e.3083.7403
SEQUENCE:3
DTSTAMP:20260425T182203Z
URL:https://members.longmontchamber.org/events/details/coltaf-training-7403
END:VEVENT

END:VCALENDAR
