BEGIN:VCALENDAR
VERSION:2.0
PRODID:-//ChamberMaster//Event Calendar 2.0//EN
METHOD:PUBLISH
X-PUBLISHED-TTL:P3D
REFRESH-INTERVAL:P3D
CALSCALE:GREGORIAN
BEGIN:VEVENT
DTSTART:20250601T000000Z
DTEND:20250601T030000Z
X-MICROSOFT-CDO-ALLDAYEVENT:FALSE
SUMMARY:Comedy To The Rescue!
DESCRIPTION:Join us for a party\, enjoying dinner and laughs with friends and neighbors!\n\n\n\nAll you can eat pasta bar and complimentary beer and wine are included in the ticket.\n\n\n\nComedy show is for 16+ (due to some light adult themes) All proceeds benefit Longmont Humane Society.\n\n\n\nhttps://www.ticketsignup.io/TicketEvent/ComedyToTheRescue
X-ALT-DESC;FMTTYPE=text/html:<br />\n<span style="font-size:22px\;">Join us for a party\, enjoying dinner and laughs with friends and neighbors!<br />\n<br />\nAll you can eat pasta bar and complimentary beer and wine are included in the ticket.<br />\n<br />\nComedy show is for 16+ (due to some light adult themes) All proceeds benefit Longmont Humane Society.<br />\n<br />\n<a href="https://www.ticketsignup.io/TicketEvent/ComedyToTheRescue">https://www.ticketsignup.io/TicketEvent/ComedyToTheRescue</a></span>
LOCATION:Longmont Elk's Lodge
UID:e.3083.13462
SEQUENCE:3
DTSTAMP:20260421T124709Z
URL:https://members.longmontchamber.org/events/details/comedy-to-the-rescue-13462
END:VEVENT

END:VCALENDAR
