BEGIN:VCALENDAR
VERSION:2.0
PRODID:-//ChamberMaster//Event Calendar 2.0//EN
METHOD:PUBLISH
X-PUBLISHED-TTL:P3D
REFRESH-INTERVAL:P3D
CALSCALE:GREGORIAN
BEGIN:VEVENT
DTSTART:20250817T170000Z
DTEND:20250817T183000Z
X-MICROSOFT-CDO-ALLDAYEVENT:FALSE
SUMMARY:Coming Home to Yourself Through Creative Expression | Release Stress/ Embrace Balance
DESCRIPTION:This 4 week workshop invites individuals to experience the release of stress through a variety of creative outlets with therapist and creative\, Ellie Brown.\nRelease Stress and Embrace Balance: Come Home to Yourself Through Creative Expression\n\nWITH THERAPIST AND CREATIVE ELLIE BROWN\n\nFEELING DEPLETED\, EMPTY\, STUCK AND BURNED OUT?\n\nOR MAYBE WONDERING IF THERE'S MORE TO LIFE?...\n\nJoin Our Group Experience\n\n\n	\n	  SELF HEALING / COPING STRATEGIES\n	\n	\n	  CREATIVE MOVEMENT\n	\n	\n	  ARTISTIC EXPRESSION\n	\n	\n	  JOURNALING\n	\n	\n	  MINDFULNESS PRACTICES.\n	\n\n\nBring yourself and your favorite art supplies for a time of release that involves simple somatic movement practices paired with other avenues of creative expression! \n\n \n\nGroup Vision:\n\n"THAT EACH PARTICIPANT FINDS JOY\, HEALING\, AND A NEW LEVEL OF SELF-DISCOVERY. "\n\n***This is a 4-part workshop***\n\n \n\nCost: $30 for each meeting - drop-ins welcome\n\n \n\nMeeting dates:\n\nJULY 27\n\nAUGUST 3\n\nAUGUST 10\n\nAUGUST 17\n\nAbout Ellie:\n\nI'm Ellie Brown\, a passionate therapist and creative taking a holistic approach to helping people transform their lives through the growth of self awareness on every level of being   mind\, heart\, body and deep intuition.\n\nMy journey into the mental health field began with a personal quest for awakening and growth and healing\, which ignited a deep desire to help others find their path to greater meaning as well.\n\nIt is my passion and joy to help my clients build healthy habits\,feel better\, and find what works for them to live their best lives.
X-ALT-DESC;FMTTYPE=text/html:<br />\n<span style="color:rgb(78\, 56\, 21)\; font-family:avenir-lt-w01_85-heavy1475544\,sans-serif\; font-size:16px"><span style="font-size:18px\;">This 4 week workshop invites individuals to experience the release of stress through a variety of creative outlets with therapist and creative\, Ellie Brown.</span></span>\n<p style="text-align:initial"><strong>Release Stress and Embrace Balance: Come Home to Yourself Through Creative Expression</strong></p>\n\n<p style="text-align:initial"><em>WITH THERAPIST AND CREATIVE ELLIE BROWN</em></p>\n\n<div style="background:transparent\; border:0px\; padding:0px\; text-align:initial">FEELING DEPLETED\, EMPTY\, STUCK AND BURNED OUT?</div>\n\n<p style="text-align:initial">OR MAYBE WONDERING IF THERE&#39\;S MORE TO LIFE?...</p>\n\n<p style="text-align:initial">Join Our Group Experience</p>\n\n<ul>\n	<li style="text-align:initial">\n	<p style="text-align:initial">&nbsp\; SELF HEALING / COPING STRATEGIES</p>\n	</li>\n	<li style="text-align:initial">\n	<p style="text-align:initial">&nbsp\; CREATIVE MOVEMENT</p>\n	</li>\n	<li style="text-align:initial">\n	<p style="text-align:initial">&nbsp\; ARTISTIC EXPRESSION</p>\n	</li>\n	<li style="text-align:initial">\n	<p style="text-align:initial">&nbsp\; JOURNALING</p>\n	</li>\n	<li style="text-align:initial">\n	<p style="text-align:initial">&nbsp\; MINDFULNESS PRACTICES.</p>\n	</li>\n</ul>\n\n<div style="background:transparent\; border:0px\; padding:0px\; text-align:initial">Bring yourself and your favorite art supplies for a time of release that involves simple somatic movement practices paired with other avenues of creative expression!&nbsp\;</div>\n\n<div style="background:transparent\; border:0px\; padding:0px\; text-align:initial">&nbsp\;</div>\n\n<p style="text-align:initial">Group Vision:</p>\n\n<p style="text-align:initial">&quot\;THAT EACH PARTICIPANT FINDS JOY\, HEALING\, AND A NEW LEVEL OF SELF-DISCOVERY. &quot\;</p>\n\n<div style="background:transparent\; border:0px\; padding:0px\; text-align:initial"><strong>***This is a 4-part workshop***</strong><br />\n&nbsp\;</div>\n\n<div style="background:transparent\; border:0px\; padding:0px\; text-align:initial"><strong>Cost: $30</strong>&nbsp\;for each meeting - drop-ins welcome</div>\n\n<div style="background:transparent\; border:0px\; padding:0px\; text-align:initial">&nbsp\;</div>\n\n<p style="text-align:initial"><strong><u>Meeting dates:</u></strong></p>\n\n<p style="text-align:initial">JULY 27<br />\nAUGUST 3<br />\nAUGUST 10<br />\nAUGUST 17</p>\n\n<div style="background:transparent\; border:0px\; padding:0px\; text-align:initial"><strong>About Ellie:</strong></div>\n\n<p style="text-align:initial">I&rsquo\;m Ellie Brown\, a passionate therapist and creative taking a holistic approach to helping people transform their lives through the growth of self awareness on every level of being &mdash\; mind\, heart\, body and deep intuition.</p>\n\n<p style="text-align:initial">My journey into the mental health field began with a personal quest for awakening and growth and healing\, which ignited a deep desire to help others find their path to greater meaning as well.</p>\n\n<p style="text-align:initial">It is my passion and joy to help my clients build healthy habits\,feel better\, and find what works for them to live their best lives.&nbsp\;</p>\n
LOCATION:Butterscotch Studios
UID:e.3083.13578
SEQUENCE:3
DTSTAMP:20260421T082950Z
URL:https://members.longmontchamber.org/events/details/coming-home-to-yourself-through-creative-expression-release-stress-embrace-balance-08-17-2025-13578
END:VEVENT

END:VCALENDAR
