BEGIN:VCALENDAR
VERSION:2.0
PRODID:-//ChamberMaster//Event Calendar 2.0//EN
METHOD:PUBLISH
X-PUBLISHED-TTL:P3D
REFRESH-INTERVAL:P3D
CALSCALE:GREGORIAN
BEGIN:VEVENT
DTSTART;VALUE=DATE:20210726
DTEND;VALUE=DATE:20210727
TRANSP:TRANSPARENT
X-MICROSOFT-CDO-ALLDAYEVENT:TRUE
SUMMARY:Commerce Cup Golf Tournament
DESCRIPTION:This July 26\, enjoy a relaxing day outdoors with friends\, coworkers\, and the Longmont Chamber community! The Longmont Chamber Golf Tournament is an 18-hole game exclusive to Longmont Area Chamber of Commerce members and their guests.\n\n\nTournament Schedule\n\nJuly 26 at the Fox Hill Club\, 1400 CO-119\, Longmont\, CO 80501\n\n \n\n8:30 am    Player registration opens\n\n10:30 am      Welcome announcements\n\n11:00 am      Shotgun start\n\n4:30 pm      Tournament ends\n\n5:00 pm      Tournament reception and networking event at Clovis Point Apartments begins\n\n\n\nThe Brewhop Trolley will be available to shuttle players and sponsors between Fox Hill and Clovis Point Apartments between 4:00 and 7:30 pm. Golfers and sponsors will have access to an exclusive lounge with food and cocktails in addition to the food and beverages available to all networking event guests.
X-ALT-DESC;FMTTYPE=text/html:This July 26\, enjoy a relaxing day outdoors with friends\, coworkers\, and the Longmont Chamber community! The Longmont Chamber Golf Tournament is an 18-hole game exclusive to Longmont Area Chamber of Commerce members and their guests.\n<h2><br />\nTournament Schedule</h2>\n\n<h4>July 26 at the Fox Hill Club\, 1400 CO-119\, Longmont\, CO 80501</h4>\n\n<p>&nbsp\;</p>\n\n<p>8:30 am&nbsp\;&ndash\;&nbsp\; Player registration opens</p>\n\n<p>10:30 am&nbsp\;&nbsp\; &ndash\;&nbsp\; Welcome announcements</p>\n\n<p>11:00 am&nbsp\;&nbsp\; &ndash\;&nbsp\; Shotgun start</p>\n\n<p>4:30 pm&nbsp\;&nbsp\; &ndash\;&nbsp\; Tournament ends</p>\n\n<p>5:00 pm&nbsp\;&nbsp\; &ndash\;&nbsp\; Tournament reception and networking event at Clovis Point Apartments begins<br />\n<br />\nThe Brewhop Trolley will be available to shuttle players and sponsors between Fox Hill and Clovis Point Apartments between 4:00 and 7:30 pm. Golfers and sponsors will have access to an exclusive lounge with food and cocktails in addition to the food and beverages available to all networking event guests.</p>\n
LOCATION:Fox Hill Club 1400 East State Hwy 119 Longmont\, CO 80504
UID:e.3083.8184
SEQUENCE:3
DTSTAMP:20260424T135744Z
URL:https://members.longmontchamber.org/events/details/commerce-cup-golf-tournament-8184
END:VEVENT

END:VCALENDAR
