BEGIN:VCALENDAR
VERSION:2.0
PRODID:-//ChamberMaster//Event Calendar 2.0//EN
METHOD:PUBLISH
X-PUBLISHED-TTL:P3D
REFRESH-INTERVAL:P3D
CALSCALE:GREGORIAN
BEGIN:VEVENT
DTSTART:20200629T220000Z
DTEND:20200629T233000Z
X-MICROSOFT-CDO-ALLDAYEVENT:FALSE
SUMMARY:Community Conversation: Race\, Policing and Human Rights
DESCRIPTION:Across the nation people are calling attention to systemic racism\, historic oppression and the unrealized promise of the civil and human rights struggles that date back to the founding of the nation.\n\n\n\nHow is this discussion playing out in Longmont? What is daily life like here in Longmont for Black\, Latino\, Indigenous and other people of color? When we hear talk about defunding or reforming the police\, what would that mean?\n\n\n\nThat's the focus of "Community Conversation: A discussion about race\, policing and civil rights" featuring Minister Glenda Robinson\, member of the Longmont Multicultural Action Committee and founder of the annual Dr Martin Luther King Jr legacy celebration in Longmont\, and Public Safety Chief Mike Butler and moderated by Macie May\, editor\, Longmont Leader and Liz Smokowski\, chief executive officer of the Longmont Humane Society.\n\n\n\nThe Longmont Area Chamber of Commerce is partnering with The Longmont Leader and Longmont Public Media to co-host this timely community conversation. The conversation will be livestreamed from the LPM studios via Crowdcast.\n\nRegister Here:\n\nhttps://www.crowdcast.io/e/community-conversation-a
X-ALT-DESC;FMTTYPE=text/html:<span style="color:#505050\;"><span style="font-family:helvetica\,sans-serif\;"><span style="font-size:12.0pt\;">Across the nation people are calling attention to systemic racism\, historic oppression and the unrealized promise of the civil and human rights struggles that date back to the founding of the nation.<br />\n<br />\nHow is this discussion playing out in Longmont? What is daily life like here in Longmont for Black\, Latino\, Indigenous and other people of color? When we hear talk about defunding or reforming the police\, what would that mean?<br />\n<br />\nThat&rsquo\;s the focus of &ldquo\;Community Conversation: A discussion about race\, policing and civil rights&rdquo\; featuring Minister Glenda Robinson\, member of the Longmont Multicultural Action Committee and founder of the annual Dr Martin Luther King Jr legacy celebration in Longmont\, and Public Safety Chief Mike Butler and moderated by Macie May\, editor\, Longmont Leader and Liz Smokowski\, chief executive officer of the Longmont Humane Society.<br />\n<br />\nThe Longmont Area Chamber of Commerce is partnering with The Longmont Leader and Longmont Public Media to co-host this timely community conversation. The conversation will be livestreamed from the LPM studios via Crowdcast.<br />\nRegister Here:</span></span></span><br />\n<span style="color:#151515\;"><span style="font-family:helvetica\,sans-serif\;"><span style="font-size:12.0pt\;"><a href="https://longmontchamber.us17.list-manage.com/track/click?u=7551b1fd5df1d02ed5ae26e6f&amp\;id=9b226b270a&amp\;e=860bd5705c" target="_blank"><span style="color:#0B2222\;">https://www.crowdcast.io/e/community-conversation-a</span></a></span></span></span>
LOCATION:
UID:e.3083.7618
SEQUENCE:3
DTSTAMP:20260425T120730Z
URL:https://members.longmontchamber.org/events/details/community-conversation-race-policing-and-human-rights-7618
END:VEVENT

END:VCALENDAR
