BEGIN:VCALENDAR
VERSION:2.0
PRODID:-//ChamberMaster//Event Calendar 2.0//EN
METHOD:PUBLISH
X-PUBLISHED-TTL:P3D
REFRESH-INTERVAL:P3D
CALSCALE:GREGORIAN
BEGIN:VEVENT
DTSTART:20230802T133000Z
DTEND:20230802T150000Z
X-MICROSOFT-CDO-ALLDAYEVENT:FALSE
SUMMARY:Community Event: Coffee for a Cause
DESCRIPTION:You Are Invited to OUR Center's COFFEE FOR A CAUSE Wednesday\, August 2\, 2023 7:30 Breakfast 8:00 a.m. Presentation 220 Collyer Street\, Longmont\, CO\n\n\n\n  Enjoy a full\, complimentary breakfast!\n\n  What services does OUR Center offer and who is eligible?\n\n  Learn what we provided during the pandemic and what has changed\n\n  What is a Family Resource Center?\n\n  OUR history and how it shapes what we do\n\n  How can you partner or be an advocate?\n\n  Volunteer Opportunities\n\n  Ways to Support OUR Center's mission: "We help people move toward self-sufficiency by unifying community resources"\n\n\n\nPlease stay for a tour if your time allows! Please RSVP by Monday\, July 31\, 2023 to 303-772-5529 x224 or elaine@ourcenter.org - open to anyone but space is limited.
X-ALT-DESC;FMTTYPE=text/html:You Are Invited to OUR Center&rsquo\;s COFFEE FOR A CAUSE Wednesday\, August 2\, 2023 7:30 Breakfast 8:00 a.m. Presentation 220 Collyer Street\, Longmont\, CO<br />\n<br />\n&bull\; Enjoy a full\, complimentary breakfast!<br />\n&bull\; What services does OUR Center offer and who is eligible?<br />\n&bull\; Learn what we provided during the pandemic and what has changed<br />\n&bull\; What is a Family Resource Center?<br />\n&bull\; OUR history and how it shapes what we do<br />\n&bull\; How can you partner or be an advocate?<br />\n&bull\; Volunteer Opportunities<br />\n&bull\; Ways to Support OUR Center&rsquo\;s mission: &ldquo\;We help people move toward self-sufficiency by unifying community resources&rdquo\;<br />\n<br />\nPlease stay for a tour if your time allows! Please RSVP by Monday\, July 31\, 2023 to 303-772-5529 x224 or elaine@ourcenter.org - open to anyone but space is limited.
LOCATION:220 Collyer St. Longmont CO\, 80501.
UID:e.3083.9723
SEQUENCE:3
DTSTAMP:20260423T005118Z
URL:https://members.longmontchamber.org/events/details/community-event-coffee-for-a-cause-9723
END:VEVENT

END:VCALENDAR
