BEGIN:VCALENDAR
VERSION:2.0
PRODID:-//ChamberMaster//Event Calendar 2.0//EN
METHOD:PUBLISH
X-PUBLISHED-TTL:P3D
REFRESH-INTERVAL:P3D
CALSCALE:GREGORIAN
BEGIN:VEVENT
DTSTART;VALUE=DATE:20230721
DTEND;VALUE=DATE:20230722
TRANSP:TRANSPARENT
X-MICROSOFT-CDO-ALLDAYEVENT:TRUE
SUMMARY:Community Event: Mead Chamber Golf Tournament
DESCRIPTION:Join us July 21 where the fun starts at 8am. \n\nUte Creek Golf course for a day of amazing networking and golf. \n\n$125 individual player\; $400 for a foursome (non chamber $425) \n\nprice includes: green fees\, golf cart\, bucket of balls\, gift bag\, lunch and awards ceremony \n\nDon't want to play? Sponsor a hole\n\n\n\nvisit www.meadchambergolf.com to sign up\n\nSee you then!
X-ALT-DESC;FMTTYPE=text/html:Join us July 21 where the fun starts at 8am.&nbsp\;<br />\nUte Creek Golf course for a day of amazing networking and golf.&nbsp\;<br />\n$125 individual player\; $400 for a foursome (non chamber $425)&nbsp\;<br />\nprice includes: green fees\, golf cart\, bucket of balls\, gift bag\, lunch and awards ceremony&nbsp\;<br />\nDon&#39\;t want to play? Sponsor a hole<br />\n<br />\nvisit www.meadchambergolf.com to sign up<br />\nSee you then!
LOCATION:Ute Creek Golf Course
UID:e.3083.9924
SEQUENCE:3
DTSTAMP:20260423T005328Z
URL:https://members.longmontchamber.org/events/details/community-event-mead-chamber-golf-tournament-9924
END:VEVENT

END:VCALENDAR
