BEGIN:VCALENDAR
VERSION:2.0
PRODID:-//ChamberMaster//Event Calendar 2.0//EN
METHOD:PUBLISH
X-PUBLISHED-TTL:P3D
REFRESH-INTERVAL:P3D
CALSCALE:GREGORIAN
BEGIN:VEVENT
DTSTART:20231007T200000Z
DTEND:20231007T220000Z
X-MICROSOFT-CDO-ALLDAYEVENT:FALSE
SUMMARY:Pumpkin Patch Paint & Sip!
DESCRIPTION:Join Coy Ink for this fall themed paint & sip party at Bee Hugger Farm. We'll pick a cozy spot in the field to paint late season sunflowers & pumpkins. Cider will be available for purchase during class.
X-ALT-DESC;FMTTYPE=text/html:Join Coy Ink for this fall themed paint &amp\; sip party at Bee Hugger Farm. We&#39\;ll pick a cozy spot in the field to paint late season sunflowers &amp\; pumpkins. Cider will be available for purchase during class.
LOCATION:The Bee Hugger Farm 12590 Ute Highway Longmont\, CO 80504
UID:e.3083.9698
SEQUENCE:3
DTSTAMP:20260422T201832Z
URL:https://members.longmontchamber.org/events/details/community-event-pumpkin-patch-painting-9698
END:VEVENT

END:VCALENDAR
