BEGIN:VCALENDAR
VERSION:2.0
PRODID:-//ChamberMaster//Event Calendar 2.0//EN
METHOD:PUBLISH
X-PUBLISHED-TTL:P3D
REFRESH-INTERVAL:P3D
CALSCALE:GREGORIAN
BEGIN:VEVENT
DTSTART:20250319T110000Z
DTEND:20250319T120000Z
X-MICROSOFT-CDO-ALLDAYEVENT:FALSE
SUMMARY:Crack the Code – The Anatomy of Great Sales Conversations
DESCRIPTION:Unlock the Code to Sales Success   Free Business Lab Event!\n\nAre your sales conversations falling flat? Do objections stop deals in their tracks?\n\nJoin us for "Business Lab: Crack the Code   The Anatomy of Great Sales Conversations"\, a FREE event designed specifically for small business owners and service providers who want to master the art of clear communication and close more deals effortlessly.\n\n\n\n\n\nWhat You'll Get at This Free Event:\n\n\n	Craft a Winning Elevator Pitch   Learn how to spark curiosity and communicate your value effectively.\n	Master Objection Handling   Navigate objections with confidence and turn hesitations into YES.\n	Unlock the Power of Referrals   Learn how to double your business through strategic referrals.\n	Build Stronger Client Connections   Develop trust and rapport that leads to long-term customer relationships.\n	LIVE Sales Role-Playing & Real-World Exercises   Get hands-on experience in perfecting your sales conversations.\n	FREE Guide: "Sales Roadblocks   Mastering the Art of Clear Communication"   A step-by-step roadmap to closing more deals and growing your business.\n\n\nWhether you struggle with what to say\, how to handle objections\, or how to confidently close sales\, this event will equip you with the tools\, strategies\, and confidence to transform your sales game.\n\n\n\nReserve Your Spot for FREE Now!\n\n Click here to register\n\nDon't miss out! Take the first step toward unlocking your full sales potential.
X-ALT-DESC;FMTTYPE=text/html:<h3><strong>Unlock the Code to Sales Success &ndash\; Free Business Lab Event!</strong></h3>\n\n<p><strong>Are your sales conversations falling flat? Do objections stop deals in their tracks?</strong></p>\n\n<p>Join us for <strong>&quot\;Business Lab: Crack the Code &ndash\; The Anatomy of Great Sales Conversations&quot\;</strong>\, a <strong>FREE</strong> event designed specifically for <strong>small business owners and service providers</strong> who want to master the art of clear communication and close more deals effortlessly.</p>\n\n<div>\n<div>\n<div>\n<div>\n<p><strong>What You&rsquo\;ll Get at This Free Event:</strong></p>\n\n<ul>\n	<li><strong>Craft a Winning Elevator Pitch</strong> &ndash\; Learn how to spark curiosity and communicate your value effectively.</li>\n	<li><strong>Master Objection Handling</strong> &ndash\; Navigate objections with confidence and turn hesitations into YES.</li>\n	<li><strong>Unlock the Power of Referrals</strong> &ndash\; Learn how to double your business through strategic referrals.</li>\n	<li><strong>Build Stronger Client Connections</strong> &ndash\; Develop trust and rapport that leads to long-term customer relationships.</li>\n	<li><strong>LIVE Sales Role-Playing &amp\; Real-World Exercises</strong> &ndash\; Get hands-on experience in perfecting your sales conversations.</li>\n	<li><strong>FREE Guide: &quot\;Sales Roadblocks &ndash\; Mastering the Art of Clear Communication&quot\;</strong> &ndash\; A step-by-step roadmap to closing more deals and growing your business.</li>\n</ul>\n\n<p>Whether you struggle with what to say\, how to handle objections\, or how to confidently close sales\, this event will <strong>equip you with the tools\, strategies\, and confidence</strong> to transform your sales game.<br />\n<br />\n<span style="font-size:16px\;"><strong>Reserve Your Spot for FREE Now!</strong><br />\n&nbsp\;<a href="https://www.eventbrite.com/e/business-lab-crack-the-code-the-anatomy-of-great-sales-conversations-tickets-1258513079499?utm_experiment=test_share_listing&amp\;aff=ebdsshios" rel="noopener" target="_new">Click here to register</a></span></p>\n\n<p><strong>Don&rsquo\;t miss out! Take the first step toward unlocking your full sales potential.</strong></p>\n</div>\n</div>\n</div>\n</div>\n
LOCATION:The Times Collaborative
UID:e.3083.11678
SEQUENCE:3
DTSTAMP:20260421T160419Z
URL:https://members.longmontchamber.org/events/details/crack-the-code-the-anatomy-of-great-sales-conversations-11678
END:VEVENT

END:VCALENDAR
