BEGIN:VCALENDAR
VERSION:2.0
PRODID:-//ChamberMaster//Event Calendar 2.0//EN
METHOD:PUBLISH
X-PUBLISHED-TTL:P3D
REFRESH-INTERVAL:P3D
CALSCALE:GREGORIAN
BEGIN:VEVENT
DTSTART:20230725T163000Z
DTEND:20230725T183000Z
X-MICROSOFT-CDO-ALLDAYEVENT:FALSE
SUMMARY:Creative Business Workshop: Business Basics/Open Forum
DESCRIPTION:Open Forum\n\n\n\n\n\nFirehouse Art Center | Longmont\, CO\n\nAre you considering starting a creative business? Already have one and just want feedback or have questions about social media\, tech\, and stepping up your game? This will be an open forum support group style. I'll try to answer everyone's questions and allow you all to provide feedback and problem solving to each other's ideas and questions.
X-ALT-DESC;FMTTYPE=text/html:<div>\n<div>\n<h2>Open Forum</h2>\n</div>\n</div>\n\n<div>\n<div>\n<p><strong>Firehouse Art Center | Longmont\, CO</strong><br />\nAre you considering starting a creative business? Already have one and just want feedback or have questions about social media\, tech\, and stepping up your game? This will be an open forum support group style. I&#39\;ll try to answer everyone&#39\;s questions and allow you all to provide feedback and problem solving to each other&#39\;s ideas and questions.</p>\n</div>\n</div>\n
LOCATION:Firehouse Art Center 667 4th Ave Longmont\, CO 80501
UID:e.3083.9647
SEQUENCE:3
DTSTAMP:20260423T021406Z
URL:https://members.longmontchamber.org/events/details/creative-business-workshop-business-basics-open-forum-9647
END:VEVENT

END:VCALENDAR
