BEGIN:VCALENDAR
VERSION:2.0
PRODID:-//ChamberMaster//Event Calendar 2.0//EN
METHOD:PUBLISH
X-PUBLISHED-TTL:P3D
REFRESH-INTERVAL:P3D
CALSCALE:GREGORIAN
BEGIN:VEVENT
DTSTART:20230523T163000Z
DTEND:20230523T183000Z
X-MICROSOFT-CDO-ALLDAYEVENT:FALSE
SUMMARY:Creative Business Workshop: Marketing Basics
DESCRIPTION:Marketing Basics\n\n\n\n\n\nFirehouse Art Center | Longmont\, CO\n\nLearn how to market yourself as a creative as well as the ins and outs of social media. We'll cover Canva & Graphic Design Basics if there's time as well. :)
X-ALT-DESC;FMTTYPE=text/html:<div>\n<div>\n<h2>Marketing Basics</h2>\n</div>\n</div>\n\n<div>\n<div>\n<p><strong>Firehouse Art Center | Longmont\, CO</strong><br />\nLearn how to market yourself as a creative as well as the ins and outs of social media. We&#39\;ll cover Canva &amp\; Graphic Design Basics if there&#39\;s time as well. :)</p>\n</div>\n</div>\n
LOCATION:Firehouse Art Center 667 4th Ave Longmont\, CO 80501
UID:e.3083.9645
SEQUENCE:3
DTSTAMP:20260423T033511Z
URL:https://members.longmontchamber.org/events/details/creative-business-workshop-marketing-basics-9645
END:VEVENT

END:VCALENDAR
