BEGIN:VCALENDAR
VERSION:2.0
PRODID:-//ChamberMaster//Event Calendar 2.0//EN
METHOD:PUBLISH
X-PUBLISHED-TTL:P3D
REFRESH-INTERVAL:P3D
CALSCALE:GREGORIAN
BEGIN:VEVENT
DTSTART:20220925T210000Z
DTEND:20220925T223000Z
X-MICROSOFT-CDO-ALLDAYEVENT:FALSE
SUMMARY:CSB's Fall Showcase featuring The Firebird
DESCRIPTION:This mixed bill performance features three pieces with live piano accompaniment by Alaina DeBellevue: two company premieres and Stravinsky's The Firebird. The show opens with (Dis)integrating Self\, a contemporary ballet work exploring identity\, community\, and relationships as dancers play with finding center\, pedestrian movements and what it means to be in partnership. The second piece on the program is "It's a Swing Thing\," choreographed by Kristin Kingsley by music for Crystal Swing Band. The final piece on the program is Stravinsky's The Firebird\, one of Russia's most famous fairy tales full of love and magic. It tells the story of Prince Ivan's journey to win the heart of his princess and destroy the immortal Koschei all with the help of a magical Firebird. Join us in-person at Longmont Museum's Stewart Auditorium or via livestream!\n\n \n\nSeptember 24 | 7PM\n\nSeptember 25 | 3PM\nTickets: https://csb.link/FallShowcaseTickets or email boxoffice@centennialstateballet.org
X-ALT-DESC;FMTTYPE=text/html:<p><span style="background-color:transparent\; color:rgb(0\, 0\, 0)\; font-family:arial\; font-size:11pt">This mixed bill performance features three pieces with live piano accompaniment by Alaina DeBellevue: two company premieres and Stravinsky&rsquo\;s The Firebird. The show opens with (Dis)integrating Self\, a contemporary ballet work exploring identity\, community\, and relationships as dancers play with finding center\, pedestrian movements and what it means to be in partnership. The second piece on the program is &quot\;It&#39\;s a Swing Thing\,&quot\; choreographed by Kristin Kingsley by music for Crystal Swing Band. The final piece on the program is Stravinsky&rsquo\;s The Firebird\, one of Russia&rsquo\;s most famous fairy tales full of love and magic. It tells the story of Prince Ivan&rsquo\;s journey to win the heart of his princess and destroy the immortal Koschei all with the help of a magical Firebird. Join us in-person at Longmont Museum&rsquo\;s Stewart Auditorium or via livestream!</span></p>\n\n<div>&nbsp\;</div>\n\n<p><span style="background-color:transparent\; color:rgb(0\, 0\, 0)\; font-family:arial\; font-size:11pt"><strong>September 24</strong>&nbsp\;| 7PM</span></p>\n\n<p><span style="background-color:transparent\; color:rgb(0\, 0\, 0)\; font-family:arial\; font-size:11pt"><strong>September 25</strong>&nbsp\;| 3PM</span></p>\n<strong><span style="background-color:transparent\; color:rgb(0\, 0\, 0)\; font-family:arial\; font-size:11pt">Tickets:&nbsp\;</span></strong><a href="https://csb.link/FallShowcaseTickets" style="text-decoration-line: none\;"><span style="background-color:transparent\; color:rgb(17\, 85\, 204)\; font-family:arial\; font-size:11pt">https://csb.link/FallShowcaseTickets</span></a><span style="background-color:transparent\; color:rgb(0\, 0\, 0)\; font-family:arial\; font-size:11pt">&nbsp\;or email boxoffice@centennialstateballet.org</span>
LOCATION:Longmont Museum's Stewart Auditorium 400 Quail Rd Longmont\, CO 80501
UID:e.3083.8838
SEQUENCE:3
DTSTAMP:20260423T161729Z
URL:https://members.longmontchamber.org/events/details/csb-s-fall-showcase-featuring-the-firebird-09-25-2022-8838
END:VEVENT

END:VCALENDAR
