BEGIN:VCALENDAR
VERSION:2.0
PRODID:-//ChamberMaster//Event Calendar 2.0//EN
METHOD:PUBLISH
X-PUBLISHED-TTL:P3D
REFRESH-INTERVAL:P3D
CALSCALE:GREGORIAN
BEGIN:VEVENT
DTSTART:20250416T190000Z
DTEND:20250416T203000Z
X-MICROSOFT-CDO-ALLDAYEVENT:FALSE
SUMMARY:CSN: Business Jeopardy - College Edition
DESCRIPTION:Chamber Student Network Presents\n\nBusiness Jeopardy: College Edition\n\n\n\nGet ready to put your knowledge to the test!\n\nJoin us for an exciting and competitive Business Jeopardy where students come together to showcase their business acumen in a fun and interactive game show.\n\nFREE FOOD
X-ALT-DESC;FMTTYPE=text/html:<br />\n<span style="font-size:22px\;">Chamber Student Network Presents<br />\nBusiness Jeopardy: College Edition<br />\n<br />\nGet ready to put your knowledge to the test!<br />\nJoin us for an exciting and competitive Business Jeopardy where students come together to showcase their business acumen in a fun and interactive game show.<br />\nFREE FOOD</span>
LOCATION:Front Range Community College Multicultural Center - Door C4
UID:e.3083.13024
SEQUENCE:3
DTSTAMP:20260421T143001Z
URL:https://members.longmontchamber.org/events/details/csn-business-jeopardy-college-edition-13024
END:VEVENT

END:VCALENDAR
