BEGIN:VCALENDAR
VERSION:2.0
PRODID:-//ChamberMaster//Event Calendar 2.0//EN
METHOD:PUBLISH
X-PUBLISHED-TTL:P3D
REFRESH-INTERVAL:P3D
CALSCALE:GREGORIAN
BEGIN:VEVENT
DTSTART:20251113T230000Z
DTEND:20251114T013000Z
X-MICROSOFT-CDO-ALLDAYEVENT:FALSE
SUMMARY:CSN | Job Fair
DESCRIPTION:The Chamber Student Network invites Chamber members and students to participate in our upcoming Job Fair!\n\n\n\nThis is a great opportunity to for students and businesses to connect about job opportunities in our community.  The event is open to students and employers.  If you are an employer looking to have a table please fill out a form here: https://forms.gle/jZSFHq1So9GrxCWY6\n\n\n\n\nUnable to attend? Feel free to drop off job opportunity materials at the Longmont Chamber (528 Main Street) by Wednesday November 12th and they will be featured at the fair.
X-ALT-DESC;FMTTYPE=text/html:&nbsp\;\n<div class="x_elementToProof" data-olk-copy-source="MessageBody" role="presentation" style="border: 0px\; font-variant-numeric: inherit\; font-variant-east-asian: inherit\; font-variant-alternates: inherit\; font-variant-position: inherit\; font-variant-emoji: inherit\; font-stretch: inherit\; font-size: 16px\; line-height: 1.38\; font-family: Aptos\, Aptos_EmbeddedFont\, Aptos_MSFontService\, Calibri\, Helvetica\, sans-serif\; font-optical-sizing: inherit\; font-size-adjust: inherit\; font-kerning: inherit\; font-feature-settings: inherit\; font-variation-settings: inherit\; margin: 0in 0in 8pt\; padding: 0px\; vertical-align: baseline\; color: rgb(0\, 0\, 0)\;"><span style="font-size:18px\;">The Chamber Student Network&nbsp\;invites Chamber members and students to participate in our upcoming Job Fair!<br />\n<br />\nThis is a great opportunity to for students and businesses to connect about job opportunities in our community.&nbsp\; The event is open to students and employers.&nbsp\; If you are an employer looking to have a table please fill out a form here:&nbsp\;<span style="border: 0px\; font-style: inherit\; font-variant: inherit\; font-weight: inherit\; font-stretch: inherit\; line-height: inherit\; font-family: inherit\; font-optical-sizing: inherit\; font-size-adjust: inherit\; font-kerning: inherit\; font-feature-settings: inherit\; font-variation-settings: inherit\; margin: 0px\; padding: 0px\; vertical-align: baseline\; color: rgb(70\, 120\, 134)\;"><b><u><a class="x_OWAAutoLink" data-auth="NotApplicable" data-linkindex="0" href="https://forms.gle/jZSFHq1So9GrxCWY6" id="OWA06d9e8b1-22d9-0db8-e33c-a9a915ff3a23" style="border: 0px\; font: inherit\; margin: 0px\; padding: 0px\; vertical-align: baseline\; color: rgb(70\, 120\, 134)\;" title="https://forms.gle/jZSFHq1So9GrxCWY6">https://forms.gle/jZSFHq1So9GrxCWY6</a></u></b></span></span></div>\n\n<div style="border: 0px\; font-variant-numeric: inherit\; font-variant-east-asian: inherit\; font-variant-alternates: inherit\; font-variant-position: inherit\; font-variant-emoji: inherit\; font-stretch: inherit\; font-size: 12pt\; line-height: inherit\; font-family: Aptos\, Aptos_EmbeddedFont\, Aptos_MSFontService\, Calibri\, Helvetica\, sans-serif\, serif\, EmojiFont\; font-optical-sizing: inherit\; font-size-adjust: inherit\; font-kerning: inherit\; font-feature-settings: inherit\; font-variation-settings: inherit\; margin: 0px\; padding: 0px\; vertical-align: baseline\; color: rgb(0\, 0\, 0)\;">\n<div class="x_elementToProof" role="presentation" style="border: 0px\; font-style: inherit\; font-variant: inherit\; font-weight: inherit\; font-stretch: inherit\; font-size: inherit\; line-height: 1.38\; font-family: inherit\; font-optical-sizing: inherit\; font-size-adjust: inherit\; font-kerning: inherit\; font-feature-settings: inherit\; font-variation-settings: inherit\; margin: 0in 0in 8pt\; padding: 0px\; vertical-align: baseline\; color: inherit\;"><br />\n<span style="font-size:18px\;"><b>Unable to attend?</b>&nbsp\;Feel free to drop off job opportunity materials at the Longmont Chamber&nbsp\;(528 Main Street) by Wednesday November 12<sup>th</sup>&nbsp\;and they will be featured at the fair.&nbsp\;</span></div>\n</div>\n
LOCATION:Front Range Community College - Door C4
UID:e.3083.14612
SEQUENCE:3
DTSTAMP:20260421T033250Z
URL:https://members.longmontchamber.org/events/details/csn-job-fair-14612
END:VEVENT

END:VCALENDAR
