BEGIN:VCALENDAR
VERSION:2.0
PRODID:-//ChamberMaster//Event Calendar 2.0//EN
METHOD:PUBLISH
X-PUBLISHED-TTL:P3D
REFRESH-INTERVAL:P3D
CALSCALE:GREGORIAN
BEGIN:VEVENT
DTSTART:20251023T223000Z
DTEND:20251024T003000Z
X-MICROSOFT-CDO-ALLDAYEVENT:FALSE
SUMMARY:CSN | Job Preparation Event
DESCRIPTION:The Chamber Student Network invites students and Chamber members to take part in an engaging Job Preparation Event designed to help local students get ready for their future careers.  Professionals will provide students feedback\, insights\, and encouragement as students develop their elevator pitch\, develop a professional image\, and how to present themselves on social media.
X-ALT-DESC;FMTTYPE=text/html:<br />\n<span style="font-size:18px\;"><span data-olk-copy-source="MessageBody">The Chamber Student Network invites students and Chamber members to take part in an engaging Job Preparation Event designed to help local students get ready for their future careers.&nbsp\; Professionals will provide students feedback\, insights\, and encouragement as students develop their elevator pitch\, develop a professional image\, and how to present themselves on social media.&nbsp\;</span></span><br />\n&nbsp\;
LOCATION:Front Range Community College - Door C4
UID:e.3083.14611
SEQUENCE:3
DTSTAMP:20260421T051323Z
URL:https://members.longmontchamber.org/events/details/csn-job-preparation-event-14611
END:VEVENT

END:VCALENDAR
