BEGIN:VCALENDAR
VERSION:2.0
PRODID:-//ChamberMaster//Event Calendar 2.0//EN
METHOD:PUBLISH
X-PUBLISHED-TTL:P3D
REFRESH-INTERVAL:P3D
CALSCALE:GREGORIAN
BEGIN:VEVENT
DTSTART:20210406T223000Z
DTEND:20210406T233000Z
X-MICROSOFT-CDO-ALLDAYEVENT:FALSE
SUMMARY:CSN Leadership Only Meeting
DESCRIPTION:Chamber Student Network Leadership team meets the 2nd and 4th Tuesdays February through April 2021.
X-ALT-DESC;FMTTYPE=text/html:Chamber Student Network Leadership team meets the 2nd and 4th Tuesdays February through April 2021.
LOCATION:Zoom meeting: 2/9\, 2/23\, 3/9\, 4/6\, 4/20 Join Zoom Meeting https://us02web.zoom.us/j/81363218936 Meeting ID: 813 6321 8936 One tap mobile +13462487799\,\,81363218936# Dial in by phone: 346-248-7799
UID:e.3083.7780
SEQUENCE:3
DTSTAMP:20260424T190145Z
URL:https://members.longmontchamber.org/events/details/csn-leadership-only-meeting-04-13-2021-7780
END:VEVENT

END:VCALENDAR
