BEGIN:VCALENDAR
VERSION:2.0
PRODID:-//ChamberMaster//Event Calendar 2.0//EN
METHOD:PUBLISH
X-PUBLISHED-TTL:P3D
REFRESH-INTERVAL:P3D
CALSCALE:GREGORIAN
BEGIN:VEVENT
DTSTART:20230919T220000Z
DTEND:20230919T230000Z
X-MICROSOFT-CDO-ALLDAYEVENT:FALSE
SUMMARY:CSN Open House - a Zoom Event
DESCRIPTION:Chamber Student Networking is hosting a Zoom Open House\n\n"Discover Yourself In Business"\n\n\n\nTuesday\, September 19\, 4-5pm\n\nOpen to high school and above students.  Chamber members welcome.\n\n\n\nAgenda includes:\n\nIntroduction to Chamber Student Network leadership and a brief overview of CSN.\n\nIntroduction and conversation with three Chamber members sharing information about their industry and how they got into their career fields.\n\nSkill building: crafting a killer introduction incorporating the concept of an elevator pitch and how to use it for introductions in different situations.\n\n\n\nZoom Link coming soon
X-ALT-DESC;FMTTYPE=text/html:<p>Chamber Student Networking is hosting a Zoom Open House</p>\n\n<p>&quot\;Discover Yourself In Business&quot\;<br />\n<br />\nTuesday\, September 19\, 4-5pm<br />\nOpen to high school and above students.&nbsp\; Chamber members welcome.<br />\n<br />\n<span style="color: rgb(0\, 0\, 0)\; font-family: &quot\;Arial Nova Light&quot\;\, sans-serif\; font-size: 14.6667px\;">Agenda includes:<br />\nIntroduction to Chamber Student Network leadership and a brief overview of CSN.<br />\nIntroduction and conversation with three Chamber members sharing information about their industry and how they got into their career fields.<br />\nSkill building: crafting a killer introduction incorporating the concept of an elevator pitch and how to use it for introductions in different situations.</span><br />\n<br />\nZoom Link coming soon</p>\n
LOCATION:Zoom link coming soon.
UID:e.3083.9950
SEQUENCE:3
DTSTAMP:20260422T214902Z
URL:https://members.longmontchamber.org/events/details/csn-open-house-a-zoom-event-9950
END:VEVENT

END:VCALENDAR
