BEGIN:VCALENDAR
VERSION:2.0
PRODID:-//ChamberMaster//Event Calendar 2.0//EN
METHOD:PUBLISH
X-PUBLISHED-TTL:P3D
REFRESH-INTERVAL:P3D
CALSCALE:GREGORIAN
BEGIN:VEVENT
DTSTART:20220326T160000Z
DTEND:20220326T210000Z
X-MICROSOFT-CDO-ALLDAYEVENT:FALSE
SUMMARY:CTRC Tack Sale Fundraiser
DESCRIPTION:The Colorado Therapeutic Riding Center's Tack Sale Fundraiser is finally back! Join us on March 26th & 27th to shop our extensive array of Western and English horse tack\, horse and rider supplies\, and more. While you're here\, enjoy our sweet horses\, a delicious food truck\, and live music on Saturday!
X-ALT-DESC;FMTTYPE=text/html:The Colorado Therapeutic Riding Center&#39\;s Tack Sale Fundraiser is finally back! Join us on March 26th &amp\; 27th to shop our extensive array of Western and English horse tack\, horse and rider supplies\, and more. While you&#39\;re here\, enjoy our sweet horses\, a delicious food truck\, and live music on Saturday!
LOCATION:CTRC Barn 11968 Mineral Rd. Longmont\, CO 80504
UID:e.3083.8663
SEQUENCE:3
DTSTAMP:20260424T013604Z
URL:https://members.longmontchamber.org/events/details/ctrc-tack-sale-fundraiser-8663
END:VEVENT

END:VCALENDAR
