BEGIN:VCALENDAR
VERSION:2.0
PRODID:-//ChamberMaster//Event Calendar 2.0//EN
METHOD:PUBLISH
X-PUBLISHED-TTL:P3D
REFRESH-INTERVAL:P3D
CALSCALE:GREGORIAN
BEGIN:VEVENT
DTSTART:20250731T213000Z
DTEND:20250731T233000Z
X-MICROSOFT-CDO-ALLDAYEVENT:FALSE
SUMMARY:Custom Cabinets & Cocktails - Summer Open House at Concept 32
DESCRIPTION:Join us for an easygoing end-of-summer afternoon at the Concept 32 showroom in Longmont for custom cocktails (and mocktails). Open to anyone in the area that wants to get inspired for their home spaces while enjoying some refreshing drinks and small bites. \n\nTalk with industry professionals\, designers\, builders and contractors in a relaxing setting surrounded by our showroom home spaces. \n\nNo presentations. No pretense. Just good drinks and even better company.
X-ALT-DESC;FMTTYPE=text/html:<p>Join us for an easygoing end-of-summer afternoon at the Concept 32 showroom in Longmont for custom cocktails (and mocktails). Open to anyone in the area that wants to get inspired for their home spaces while enjoying some refreshing drinks and small bites.&nbsp\;</p>\n\n<p>Talk with industry professionals\, designers\, builders and contractors in a relaxing setting surrounded by our showroom home spaces.&nbsp\;</p>\n\n<p><strong>No presentations. No pretense. Just good drinks and even better company.</strong></p>\n
LOCATION:Concept 32 Showroom
UID:e.3083.13986
SEQUENCE:3
DTSTAMP:20260421T111454Z
URL:https://members.longmontchamber.org/events/details/custom-cabinets-cocktails-summer-open-house-at-concept-32-13986
END:VEVENT

END:VCALENDAR
