BEGIN:VCALENDAR
VERSION:2.0
PRODID:-//ChamberMaster//Event Calendar 2.0//EN
METHOD:PUBLISH
X-PUBLISHED-TTL:P3D
REFRESH-INTERVAL:P3D
CALSCALE:GREGORIAN
BEGIN:VEVENT
DTSTART:20250627T170000Z
DTEND:20250627T190000Z
X-MICROSOFT-CDO-ALLDAYEVENT:FALSE
SUMMARY:Customer Appreciation Day
DESCRIPTION:Customer Appreciation Day. \n\nJoin us for a special day to celebrate our special customers.
X-ALT-DESC;FMTTYPE=text/html:<br />\n<span style="font-size:22px\;">Customer Appreciation Day.&nbsp\;<br />\nJoin us for a special day to celebrate our special customers.&nbsp\;</span>
LOCATION:TBK Bank
UID:e.3083.13520
SEQUENCE:3
DTSTAMP:20260421T110915Z
URL:https://members.longmontchamber.org/events/details/customer-appreciation-day-13520
END:VEVENT

END:VCALENDAR
