BEGIN:VCALENDAR
VERSION:2.0
PRODID:-//ChamberMaster//Event Calendar 2.0//EN
METHOD:PUBLISH
X-PUBLISHED-TTL:P3D
REFRESH-INTERVAL:P3D
CALSCALE:GREGORIAN
BEGIN:VEVENT
DTSTART:20250830T000000Z
DTEND:20250830T030000Z
X-MICROSOFT-CDO-ALLDAYEVENT:FALSE
SUMMARY:d'Lovelies Return to Wibby
DESCRIPTION:d'Lovelies are returning to Wibby Brewing to put on another free all- ages show at our open-air pavilion\, FestGarten! Grab a beer (other options are available\, as well as non-alcoholic drinks) and enjoy some cowboy jazz Americana among friends.
X-ALT-DESC;FMTTYPE=text/html:d&#39\;Lovelies are returning to Wibby Brewing to put on another free all- ages show at our open-air pavilion\, FestGarten! Grab a beer (other options are available\, as well as non-alcoholic drinks) and enjoy some cowboy jazz Americana among friends.&nbsp\;
LOCATION:Wibby Brewing
UID:e.3083.14228
SEQUENCE:3
DTSTAMP:20260421T093817Z
URL:https://members.longmontchamber.org/events/details/d-lovelies-return-to-wibby-14228
END:VEVENT

END:VCALENDAR
