BEGIN:VCALENDAR
VERSION:2.0
PRODID:-//ChamberMaster//Event Calendar 2.0//EN
METHOD:PUBLISH
X-PUBLISHED-TTL:P3D
REFRESH-INTERVAL:P3D
CALSCALE:GREGORIAN
BEGIN:VEVENT
DTSTART:20250621T010000Z
DTEND:20250621T033000Z
X-MICROSOFT-CDO-ALLDAYEVENT:FALSE
SUMMARY:Dancing Under the Stars - Salsa
DESCRIPTION:Dance Night at Cottonwood Square   Niwot\n\nJoin us for a lively evening of music and dancing in Cottonwood Square on Friday\, June 20th!  The fun kicks off with free dance lessons from 7:00 to 7:45 PM\, followed by open dancing from 7:45 to 9:30 PM.  Whether you're a seasoned dancer or just want to enjoy the music and atmosphere\, all are welcome.  Don't miss this fun community event under the summer sky!
X-ALT-DESC;FMTTYPE=text/html:<p><span style="font-size:18px\;"><strong>Dance Night at Cottonwood Square &ndash\; Niwot</strong></span></p>\n\n<p><span style="font-size:18px\;">Join us for a lively evening of music and dancing in Cottonwood Square on <strong>Friday\, June 20th</strong>!&nbsp\; The fun kicks off with <strong>free dance lessons from 7:00 to 7:45 PM</strong>\, followed by <strong>open dancing from 7:45 to 9:30 PM</strong>.&nbsp\; Whether you&#39\;re a seasoned dancer or just want to enjoy the music and atmosphere\, all are welcome.&nbsp\; Don&rsquo\;t miss this fun community event under the summer sky!</span></p>\n
LOCATION:Cottonwood Square\, (Corner of Niwot Road and 79th St) 7960 Niwot Road\, Niwot Colorado 80503
UID:e.3083.13505
SEQUENCE:3
DTSTAMP:20260421T111010Z
URL:https://members.longmontchamber.org/events/details/dancing-under-the-stars-13505
END:VEVENT

END:VCALENDAR
