BEGIN:VCALENDAR
VERSION:2.0
PRODID:-//ChamberMaster//Event Calendar 2.0//EN
METHOD:PUBLISH
X-PUBLISHED-TTL:P3D
REFRESH-INTERVAL:P3D
CALSCALE:GREGORIAN
BEGIN:VEVENT
DTSTART:20250809T010000Z
DTEND:20250809T033000Z
X-MICROSOFT-CDO-ALLDAYEVENT:FALSE
SUMMARY:Dancing Under the Stars - Swing - Live Music
DESCRIPTION:Dance Night at Cottonwood Square   Niwot\n\nJoin us for a lively evening of music and dancing in Cottonwood Square on Friday\, August 8th! The fun kicks off with free dance lessons from 7:00 to 7:45 PM\, followed by open dancing from 7:45 to 9:30 PM. Whether you're a seasoned dancer or just want to enjoy the music and atmosphere\, all are welcome. Don't miss this fun community event under the summer sky!
X-ALT-DESC;FMTTYPE=text/html:<p>&nbsp\;</p>\n\n<p><strong>Dance Night at Cottonwood Square &ndash\; Niwot</strong></p>\n\n<p>Join us for a lively evening of music and dancing in Cottonwood Square on <strong>Friday\, August 8th</strong>! The fun kicks off with <strong>free dance lessons from 7:00 to 7:45 PM</strong>\, followed by <strong>open dancing from 7:45 to 9:30 PM</strong>. Whether you&#39\;re a seasoned dancer or just want to enjoy the music and atmosphere\, all are welcome. Don&rsquo\;t miss this fun community event under the summer sky!</p>\n
LOCATION:Cottonwood Square\, Niwot
UID:e.3083.13511
SEQUENCE:3
DTSTAMP:20260421T094006Z
URL:https://members.longmontchamber.org/events/details/dancing-under-the-stars-swing-live-music-13511
END:VEVENT

END:VCALENDAR
