BEGIN:VCALENDAR
VERSION:2.0
PRODID:-//ChamberMaster//Event Calendar 2.0//EN
METHOD:PUBLISH
X-PUBLISHED-TTL:P3D
REFRESH-INTERVAL:P3D
CALSCALE:GREGORIAN
BEGIN:VEVENT
DTSTART:20211216T230000Z
DTEND:20211217T000000Z
X-MICROSOFT-CDO-ALLDAYEVENT:FALSE
SUMMARY:DATE CHANGE! Education Committee Meeting
DESCRIPTION:The Education Committee builds bridges between businesses and the education community to create an empowered and dynamic future workforce. Help make business connections with the St. Vrain Valley School District and Front Range Community College to build the business leaders of tomorrow.\n\n\n\nClick here to join the meeting:https://us02web.zoom.us/j/81768834749?pwd=QW5DYmIxSi9KVTk2OURMbVVFYzE1dz09
X-ALT-DESC;FMTTYPE=text/html:The Education Committee builds bridges between businesses and the education community to create an empowered and dynamic future workforce. Help make business connections with the St. Vrain Valley School District and Front Range Community College to build the business leaders of tomorrow.<br />\n<br />\nClick here to join the meeting:<a href="https://us02web.zoom.us/j/81768834749?pwd=QW5DYmIxSi9KVTk2OURMbVVFYzE1dz09" style="box-sizing: border-box\; background-image: initial\; background-position: initial\; background-size: initial\; background-repeat: initial\; background-attachment: initial\; background-origin: initial\; background-clip: initial\; color: rgb(62\, 141\, 239)\; outline: 0px\; font-family: Lato\, Helvetica\, Arial\; font-size: 14px\; overflow-wrap: break-word\;" target="_blank">https://us02web.zoom.us/j/81768834749?pwd=QW5DYmIxSi9KVTk2OURMbVVFYzE1dz09</a>
LOCATION:Education Committee is currently meeting via Zoom.
UID:e.3083.7752
SEQUENCE:3
DTSTAMP:20260424T062612Z
URL:https://members.longmontchamber.org/events/details/date-change-education-committee-meeting-7752
END:VEVENT

END:VCALENDAR
