BEGIN:VCALENDAR
VERSION:2.0
PRODID:-//ChamberMaster//Event Calendar 2.0//EN
METHOD:PUBLISH
X-PUBLISHED-TTL:P3D
REFRESH-INTERVAL:P3D
CALSCALE:GREGORIAN
BEGIN:VEVENT
DTSTART:20251011T233000Z
DTEND:20251012T040000Z
X-MICROSOFT-CDO-ALLDAYEVENT:FALSE
SUMMARY:Dawson After Dark
DESCRIPTION:EVENT DETAILS\n\nDate: October 11\n\nTime: Gates open at 4:30 p.m.  |  Music starts at 5:30 p.m. \n\nLocation:  Dawson School Lower Field\n\n\n\nGet ready for an unforgettable evening at Dawson After Dark! Join us for a night packed with live music\, delicious food from local food trucks\, and plenty of fun for the whole family. Dance the night away\, enjoy fantastic tunes\, and make memories that will last a lifetime. Don't miss out on Dawson After Dark   where good times come alive!\n\n\n\nPerformance Schedule Coming Soon!\n\nReserve Your FREE Tickets Today
X-ALT-DESC;FMTTYPE=text/html:<div>&nbsp\;</div>\n\n<div><span style="font-size:20px\;"><strong><u>EVENT DETAILS</u></strong><br />\n<strong>Date</strong>: October 11<br />\n<strong>Time:</strong>&nbsp\;Gates open at 4:30 p.m.&nbsp\; |&nbsp\; Music starts at&nbsp\;5:30 p.m.&nbsp\;</span></div>\n\n<div><span style="font-size:20px\;"><strong>Location:&nbsp\;</strong>&nbsp\;Dawson School Lower Field<br />\n<br />\nGet ready for an unforgettable evening at Dawson After Dark! Join us for a night packed with live music\, delicious food from local food trucks\, and plenty of fun for the whole family. Dance the night away\, enjoy fantastic tunes\, and make memories that will last a lifetime. Don&#39\;t miss out on Dawson After Dark &ndash\; where good times come alive!</span></div>\n\n<div><br />\n<span style="font-size:20px\;">Performance Schedule Coming Soon!</span><br />\n<span style="font-size:18px\;"><a href="https://host.nxt.blackbaud.com/registration-form/?formId=fc32bea2-5b4f-4dbb-bdc9-bdc79ae26c49&amp\;envId=p-LwzJvxHwJEGz7UIIAmVtjQ&amp\;zone=usa">Reserve Your FREE Tickets Today</a></span></div>\n
LOCATION:Dawson School
UID:e.3083.13985
SEQUENCE:3
DTSTAMP:20260421T050603Z
URL:https://members.longmontchamber.org/events/details/dawson-after-dark-13985
END:VEVENT

END:VCALENDAR
