BEGIN:VCALENDAR
VERSION:2.0
PRODID:-//ChamberMaster//Event Calendar 2.0//EN
METHOD:PUBLISH
X-PUBLISHED-TTL:P3D
REFRESH-INTERVAL:P3D
CALSCALE:GREGORIAN
BEGIN:VEVENT
DTSTART:20250802T230000Z
DTEND:20250803T020000Z
X-MICROSOFT-CDO-ALLDAYEVENT:FALSE
SUMMARY:Dead & Company w/ Sturgill "Johnny Blue Skies" Simpson
DESCRIPTION:Celebrating 60 Years of The Grateful Dead's Music\n\nPLUS SPECIAL GUEST SET BY STURGILL "JOHNNY BLUE SKIES" SIMPSON\n\nStreaming from GOLDEN GATE PARK POLO FIELD SAN FRANCISCO\, CA in the FestGarten at Wibby\n\nDoors: 4:30pm | Show: 5:00pm\n\nThis event is free\, and all ages.
X-ALT-DESC;FMTTYPE=text/html:<div>Celebrating 60 Years of The Grateful Dead&#39\;s Music<br />\nPLUS SPECIAL GUEST SET BY STURGILL &quot\;JOHNNY BLUE SKIES&quot\; SIMPSON<br />\nStreaming from GOLDEN GATE PARK POLO FIELD SAN FRANCISCO\, CA in the FestGarten at Wibby</div>\n\n<div>Doors: 4:30pm | Show: 5:00pm<br />\nThis event is free\, and all ages.</div>\n
LOCATION:Wibby Brewing
UID:e.3083.13982
SEQUENCE:3
DTSTAMP:20260421T083053Z
URL:https://members.longmontchamber.org/events/details/dead-company-w-sturgill-johnny-blue-skies-simpson-13982
END:VEVENT

END:VCALENDAR
