BEGIN:VCALENDAR
VERSION:2.0
PRODID:-//ChamberMaster//Event Calendar 2.0//EN
METHOD:PUBLISH
X-PUBLISHED-TTL:P3D
REFRESH-INTERVAL:P3D
CALSCALE:GREGORIAN
BEGIN:VEVENT
DTSTART:20250726T210000Z
DTEND:20250727T000000Z
X-MICROSOFT-CDO-ALLDAYEVENT:FALSE
SUMMARY:Decades Party Costume Crawl - FREE Retro Candy
DESCRIPTION:You're Invited to Our Decades Party!\n\nSaturday\, July 26th | 3PM   6PM\n\nElevated Communities | 455 Main Street\, Longmont\n\n\n\nJoin Longmont's Dress Up Downtown Costume Crawl and step back in time with us here at Elevated Communities!  Rock your favorite Decades-themed outfit and stop by for:\n\n	FREE Retro Candy   Grab a sweet treat from your favorite era!\n	Photo Drop Fun   Snap a selfie and strike a groovy pose!\n	WIN a $25 Gift Certificate!   Post your photo on social media and tag Elevated Communities for a chance to win!\n	Whether you're into the '70s disco vibe\, '80s neon flair\, or '90s grunge\, this is your moment to shine!\n\nSee you there   peace\, love\, and retro candy!
X-ALT-DESC;FMTTYPE=text/html:<br />\n<span style="font-size:20px\;">You&#39\;re Invited to Our Decades Party!<br />\nSaturday\, July 26th | 3PM &ndash\; 6PM<br />\nElevated Communities | 455 Main Street\, Longmont<br />\n<br />\nJoin Longmont&#39\;s Dress Up Downtown Costume Crawl and step back in time with us here at Elevated Communities!&nbsp\; Rock your favorite Decades-themed outfit and stop by for:</span>\n<ul>\n	<li><span style="font-size:20px\;">FREE Retro Candy &ndash\; Grab a sweet treat from your favorite era!</span></li>\n	<li><span style="font-size:20px\;">Photo Drop Fun &ndash\; Snap a selfie and strike a groovy pose!</span></li>\n	<li><span style="font-size:20px\;">WIN a $25 Gift Certificate! &ndash\; Post your photo on social media and tag Elevated Communities for a chance to win!</span></li>\n	<li><span style="font-size:20px\;">Whether you&#39\;re into the &#39\;70s disco vibe\, &#39\;80s neon flair\, or &#39\;90s grunge\, this is your moment to shine!</span></li>\n</ul>\n<span style="font-size:20px\;">See you there &ndash\; peace\, love\, and retro candy!</span><br />\n&nbsp\;
LOCATION:
UID:e.3083.13584
SEQUENCE:3
DTSTAMP:20260421T094721Z
URL:https://members.longmontchamber.org/events/details/decades-party-costume-crawl-free-retro-candy-13584
END:VEVENT

END:VCALENDAR
