BEGIN:VCALENDAR
VERSION:2.0
PRODID:-//ChamberMaster//Event Calendar 2.0//EN
METHOD:PUBLISH
X-PUBLISHED-TTL:P3D
REFRESH-INTERVAL:P3D
CALSCALE:GREGORIAN
BEGIN:VEVENT
DTSTART:20220326T160000Z
DTEND:20220326T180000Z
X-MICROSOFT-CDO-ALLDAYEVENT:FALSE
SUMMARY:Design a Stationery Set
DESCRIPTION:Customize your own stationery set with artist Coy Ink. Kit includes a box\, envelopes\, letter sheets\, four USPS stamps\, two rubber stamps\, and the option to design and order a customized return address stamp ($25 additional fee). This class will be crafted with used art supplies and secondhand boxes\, so sizes & color will vary. Snacks & drinks
X-ALT-DESC;FMTTYPE=text/html:Customize your own stationery set with artist Coy Ink. Kit includes a box\, envelopes\, letter sheets\, four USPS stamps\, two rubber stamps\, and the option to design and order a customized return address stamp ($25 additional fee). This class will be crafted with used art supplies and secondhand boxes\, so sizes &amp\; color will vary. Snacks &amp\; drinks
LOCATION:The Hidden Treasure 2 2330 Main Street #Unit D Longmont\, CO 80501
UID:e.3083.8673
SEQUENCE:3
DTSTAMP:20260424T025448Z
URL:https://members.longmontchamber.org/events/details/design-a-stationery-set-8673
END:VEVENT

END:VCALENDAR
