BEGIN:VCALENDAR
VERSION:2.0
PRODID:-//ChamberMaster//Event Calendar 2.0//EN
METHOD:PUBLISH
X-PUBLISHED-TTL:P3D
REFRESH-INTERVAL:P3D
CALSCALE:GREGORIAN
BEGIN:VEVENT
DTSTART:20220405T220000Z
DTEND:20220406T003000Z
X-MICROSOFT-CDO-ALLDAYEVENT:FALSE
SUMMARY:Design Basics for Small Business EDU
DESCRIPTION:Design Basics for Small Business \n\nCommunicate more effectively and look good doing it. \n\nHave you been feeling frustrated whenever you need to design something new for your job or business? Do you feel like you spend hours on one piece of content that should've taken only 10 minutes? Whether it's a presentation\, web graphic\, social post\, or something else\, this workshop will help you work faster\, more confidently\, and look good while doing it. \n\n \n\nWhat to expect?\n\nThis is an in-person workshop event at the Longmont Chamber. You'll create a customized branding cheat sheet during class that'll help simplify your design decisions\, go over basic design principles\, and review design programs you can use to make your job easier. Bring your computer!\n\n\n\nLimited to 10 Participants
X-ALT-DESC;FMTTYPE=text/html:<div><strong>Design Basics for Small Business</strong>&nbsp\;</div>\n\n<div><em>Communicate more effectively and look good doing it.&nbsp\;</em></div>\n\n<div>Have you been feeling frustrated whenever you need to design something new for your job or business? Do you feel like you spend hours on one piece of content that should&rsquo\;ve taken only 10 minutes? Whether it&#39\;s a presentation\, web graphic\, social post\, or something else\, this workshop will help you work faster\, more confidently\, and look good while doing it.&nbsp\;<br />\n&nbsp\;</div>\n\n<div><strong>What to expect?</strong><br />\nThis is an in-person workshop event at the Longmont Chamber.&nbsp\;You&rsquo\;ll create a customized branding cheat sheet during class that&#39\;ll help simplify your design decisions\, go over basic design principles\, and review design programs you can use to make your job easier. Bring your computer!<br />\n<br />\nLimited to 10 Participants&nbsp\;</div>\n
LOCATION:Longmont Chamber Conference Room 528 Main St\, Longmont\, CO 80501
UID:e.3083.8661
SEQUENCE:3
DTSTAMP:20260423T235924Z
URL:https://members.longmontchamber.org/events/details/design-basics-for-small-business-edu-8661
END:VEVENT

END:VCALENDAR
