BEGIN:VCALENDAR
VERSION:2.0
PRODID:-//ChamberMaster//Event Calendar 2.0//EN
METHOD:PUBLISH
X-PUBLISHED-TTL:P3D
REFRESH-INTERVAL:P3D
CALSCALE:GREGORIAN
BEGIN:VEVENT
DTSTART:20250726T230000Z
DTEND:20250727T030000Z
X-MICROSOFT-CDO-ALLDAYEVENT:FALSE
SUMMARY:Dessert Auction!
DESCRIPTION:Come try out tasty desserts\, have a drink (or two) and bid on your favorite dessert at Elks Lodge 1055 on Saturday\, July 26th from 5 - 9pm!\n\n\n\nTickets are $10 at the door and include 1 free drink ticket for a beer\, wine\, or well drink. There will be free samplers of each dessert being auctioned to try before you buy.\n\n\n\nAll proceeds go to VFW Post 2601 and Elks Lodge 1055\, non-profit organizations.
X-ALT-DESC;FMTTYPE=text/html:<br />\n<span style="font-size:22px\;">Come try out tasty desserts\, have a drink (or two) and bid on your favorite dessert at Elks Lodge 1055 on Saturday\, July 26th from 5 - 9pm!<br />\n<br />\nTickets are $10 at the door and include 1 free drink ticket for a beer\, wine\, or well drink. There will be free samplers of each dessert being auctioned to try before you buy.<br />\n<br />\nAll proceeds go to VFW Post 2601 and Elks Lodge 1055\, non-profit organizations.&nbsp\;</span>
LOCATION:Longs Peak VFW Post 2601
UID:e.3083.13562
SEQUENCE:3
DTSTAMP:20260421T093646Z
URL:https://members.longmontchamber.org/events/details/dessert-auction-13562
END:VEVENT

END:VCALENDAR
