BEGIN:VCALENDAR
VERSION:2.0
PRODID:-//ChamberMaster//Event Calendar 2.0//EN
METHOD:PUBLISH
X-PUBLISHED-TTL:P3D
REFRESH-INTERVAL:P3D
CALSCALE:GREGORIAN
BEGIN:VEVENT
DTSTART:20250628T153000Z
DTEND:20250628T173000Z
X-MICROSOFT-CDO-ALLDAYEVENT:FALSE
SUMMARY:Director Meet and Greet Open House
DESCRIPTION:We're hosting our very first Open House at The Nest Schools   Longmont\, and YOU'RE invited! \n\nJoin us on Saturday\, June 28th\, from 9:30 AM to 11:30 AM to meet our new Director\, Kaile Hopkins\, and get a first look at our brand-new outdoor learning environments and playground! \n\nWhile the inside of our school is still being finished\, this is the perfect chance to explore the space\, enjoy some fun activities\, and learn more about what's coming soon at The Nest.  \n\n	Outdoor activities for kids  \n	Explore our completed playground \n	Meet our leadership team \n	Light refreshments provided \n\nWe can't wait to welcome you! \n\n\n\n#TheNestSchools #LongmontOpenHouse #OutdoorLearning #EarlyChildhoodEducation #PlayToLearn
X-ALT-DESC;FMTTYPE=text/html:<br />\n<span style="background-color:rgb(255\, 255\, 255)\; color:rgb(51\, 51\, 51)\; font-family:helvetica neue\,helvetica\,arial\,sans-serif\; font-size:16px">We&rsquo\;re hosting our very first Open House at The Nest Schools &ndash\; Longmont\, and YOU&rsquo\;RE invited!&nbsp\;<br />\nJoin us on Saturday\, June 28th\, from 9:30 AM to 11:30 AM to meet our new Director\, Kaile Hopkins\, and get a first look at our brand-new outdoor learning environments and playground!&nbsp\;<br />\nWhile the inside of our school is still being finished\, this is the perfect chance to explore the space\, enjoy some fun activities\, and learn more about what&rsquo\;s coming soon at The Nest.&nbsp\; </span>\n<ul>\n	<li><span style="background-color:rgb(255\, 255\, 255)\; color:rgb(51\, 51\, 51)\; font-family:helvetica neue\,helvetica\,arial\,sans-serif\; font-size:16px">Outdoor activities for kids&nbsp\; </span></li>\n	<li><span style="background-color:rgb(255\, 255\, 255)\; color:rgb(51\, 51\, 51)\; font-family:helvetica neue\,helvetica\,arial\,sans-serif\; font-size:16px">Explore our completed playground </span></li>\n	<li><span style="background-color:rgb(255\, 255\, 255)\; color:rgb(51\, 51\, 51)\; font-family:helvetica neue\,helvetica\,arial\,sans-serif\; font-size:16px">Meet our leadership team </span></li>\n	<li><span style="background-color:rgb(255\, 255\, 255)\; color:rgb(51\, 51\, 51)\; font-family:helvetica neue\,helvetica\,arial\,sans-serif\; font-size:16px">Light refreshments provided </span></li>\n</ul>\n<span style="background-color:rgb(255\, 255\, 255)\; color:rgb(51\, 51\, 51)\; font-family:helvetica neue\,helvetica\,arial\,sans-serif\; font-size:16px">We can&rsquo\;t wait to welcome you!&nbsp\;</span><br />\n<br />\n<a font-size:="" helvetica="" href="https://twitter.com/hashtag/TheNestSchools" style="box-sizing: border-box\; background: 0px 0px rgb(255\, 255\, 255)\; color: cornflowerblue\; text-decoration-line: none\; font-family: " target="_blank" white-space-collapse:="">#TheNestSchools</a><a font-size:="" helvetica="" href="https://twitter.com/hashtag/LongmontOpenHouse" style="box-sizing: border-box\; background: 0px 0px rgb(255\, 255\, 255)\; color: cornflowerblue\; text-decoration-line: none\; font-family: " target="_blank" white-space-collapse:=""> #LongmontOpenHouse</a><a font-size:="" helvetica="" href="https://twitter.com/hashtag/OutdoorLearning" style="box-sizing: border-box\; background: 0px 0px rgb(255\, 255\, 255)\; color: cornflowerblue\; text-decoration-line: none\; font-family: " target="_blank" white-space-collapse:=""> #OutdoorLearning</a><a font-size:="" helvetica="" href="https://twitter.com/hashtag/EarlyChildhoodEducation" style="box-sizing: border-box\; background: 0px 0px rgb(255\, 255\, 255)\; color: cornflowerblue\; text-decoration-line: none\; font-family: " target="_blank" white-space-collapse:=""> #EarlyChildhoodEducation</a><a font-size:="" helvetica="" href="https://twitter.com/hashtag/PlayToLearn" style="box-sizing: border-box\; background: 0px 0px rgb(255\, 255\, 255)\; color: cornflowerblue\; text-decoration-line: none\; font-family: " target="_blank" white-space-collapse:=""> #PlayToLearn</a>
LOCATION:
UID:e.3083.13553
SEQUENCE:3
DTSTAMP:20260421T111309Z
URL:https://members.longmontchamber.org/events/details/director-meet-and-greet-open-house-13553
END:VEVENT

END:VCALENDAR
