BEGIN:VCALENDAR
VERSION:2.0
PRODID:-//ChamberMaster//Event Calendar 2.0//EN
METHOD:PUBLISH
X-PUBLISHED-TTL:P3D
REFRESH-INTERVAL:P3D
CALSCALE:GREGORIAN
BEGIN:VEVENT
DTSTART:20250613T003000Z
DTEND:20250613T023000Z
X-MICROSOFT-CDO-ALLDAYEVENT:FALSE
SUMMARY:Distilling Dames: Create Your Own Garnish Garden
DESCRIPTION:The Distilling Dames are back with a revamped program and partnership with Slow Food Boulder County!\n\nJoin this group of Femme adults on the second Thursday of each month for an eve of cocktails\, bites\, education\, camaraderie\, and discussion that aims to empower and enrich your experience of cocktail culture and the secrets and ways of the distillation process.\n\nWe will host guest speakers that cover a wide array of topics from the history\, techniques\, and preparation of the spirits and choosing ingredients\, to the art\, science\, and nitty gritty that take place in the behind the scenes processes of what eventually ends up in your glass!\n\nSlow Food adds layers of overlapping food culture principles\, all in the name of Good\, Clean\, and Fair!\n\nThese drop-in meetings are generally $20 and include a cocktail\, food\, and guest presenters. Meetings are the second Thursday of each month\, at Dry Land Distillers\, from 6:30-8:30pm. There is the option to purchase an annual membership at a deep discount which also includes some extra special gifts and sips!\n\nThis week we will be digging in the dirt - literally! Come plant herbs and edible flowers that will make their way into future cocktails. Soil\, tools\, and plant selection provided. Feel free to bring your own pots\, planters\, plants\, to trade and inspire others. There will be no food served this week and the cocktail will be Dames' Choice!  Please RSVP by June 10th so we collect enough materials. Let's grow our own!\n\nMake sure to check calendar updates for themes\, topics\, and guests for each session.\n\nFind out general Distilling Dames details and join here!?
X-ALT-DESC;FMTTYPE=text/html:<p><span style="color:rgb(52\, 73\, 94)\; font-family:arial\,helvetica\,sans-serif">The Distilling Dames are back with a revamped program and partnership with&nbsp\;<a href="https://www.slowfoodboulder.org/" style="box-sizing: inherit\; color: rgb(70\, 129\, 117)\; outline: none\; transition: 0.2s\;">Slow Food Boulder County</a>!</span></p>\n\n<p><span style="color:rgb(52\, 73\, 94)\; font-family:arial\,helvetica\,sans-serif">Join this group of Femme adults on the second Thursday of each month for an eve of cocktails\, bites\, education\, camaraderie\, and discussion that aims to empower and enrich your experience of cocktail culture and the secrets and ways of the distillation process.</span></p>\n\n<p><span style="color:rgb(52\, 73\, 94)\; font-family:arial\,helvetica\,sans-serif">We will host guest speakers that cover a wide array of topics from the history\, techniques\, and preparation of the spirits and choosing ingredients\, to the art\, science\, and nitty gritty that take place in the behind the scenes processes of what eventually ends up in your glass!</span></p>\n\n<p><span style="color:rgb(52\, 73\, 94)\; font-family:arial\,helvetica\,sans-serif">Slow Food adds layers of overlapping food culture principles\, all in the name of Good\, Clean\, and Fair!</span></p>\n\n<p><span style="color:rgb(52\, 73\, 94)\; font-family:arial\,helvetica\,sans-serif">These drop-in meetings are generally $20 and include a cocktail\, food\, and guest presenters. Meetings are the second Thursday of each month\, at Dry Land Distillers\, from 6:30-8:30pm. There is the option to purchase an annual membership at a deep discount which also includes some extra special gifts and sips!</span></p>\n\n<p><span style="color:rgb(52\, 73\, 94)\; font-family:arial\,helvetica\,sans-serif"><strong>This week we will be digging in the dirt - literally! Come plant herbs and edible flowers that will make their way into future cocktails. Soil\, tools\, and plant selection provided. Feel free to bring your own pots\, planters\, plants\, to trade and inspire others. There will be no food served this week and the cocktail will be Dames&#39\; Choice!&nbsp\;&nbsp\;<span style="font-size:22px\;">Please&nbsp\;<a href="https://www.slowfoodboulder.org/events-1/june-12th-distilling-dames-create-your-own-garnish-garden">RSVP</a>&nbsp\;by June 10th so we collect enough materials. Let&#39\;s grow our own!</span></strong></span></p>\n\n<p><span style="color:rgb(52\, 73\, 94)\; font-family:arial\,helvetica\,sans-serif">Make sure to check calendar updates for themes\, topics\, and guests for each session.</span></p>\n\n<p><span style="color:rgb(52\, 73\, 94)\; font-family:arial\,helvetica\,sans-serif"><a href="https://www.drylanddistillers.com/blogs/events/distilling-dames" style="font-family: Raleway\, Roboto\, Arial\, sans-serif\;">Find out general Distilling Dames details and join here!?</a></span></p>\n
LOCATION:
UID:e.3083.13532
SEQUENCE:3
DTSTAMP:20260421T124836Z
URL:https://members.longmontchamber.org/events/details/distilling-dames-create-your-own-garnish-garden-13532
END:VEVENT

END:VCALENDAR
