BEGIN:VCALENDAR
VERSION:2.0
PRODID:-//ChamberMaster//Event Calendar 2.0//EN
METHOD:PUBLISH
X-PUBLISHED-TTL:P3D
REFRESH-INTERVAL:P3D
CALSCALE:GREGORIAN
BEGIN:VEVENT
DTSTART:20250710T233000Z
DTEND:20250711T023000Z
X-MICROSOFT-CDO-ALLDAYEVENT:FALSE
SUMMARY:Distilling Dames & Dudes: Regenerative Agriculture
DESCRIPTION:The Distilling Dames are back with a revamped program and partnership with Slow Food Boulder County!\n\nJoin this group of Femme adults on the second Thursday of each month for an eve of cocktails\, bites\, education\, camaraderie\, and discussion that aims to empower and enrich your experience of cocktail culture and the secrets and ways of the distillation process.\n\nWe will host guest speakers that cover a wide array of topics from the history\, techniques\, and preparation of the spirits and choosing ingredients\, to the art\, science\, and nitty gritty that take place in the behind the scenes processes of what eventually ends up in your glass!\n\nSlow Food adds layers of overlapping food culture principles\, all in the name of Good\, Clean\, and Fair!\n\nThese drop-in meetings are typically $20 and include a cocktail\, nibbles\, and guest presenters. Meetings are the second Thursday of each month\, at Dry Land Distillers\, from 6:30-8:30pm. There is the option to purchase an annual membership at a deep discount which also includes some extra special gifts and sips!\n\nThis month's gathering is all about regenerative agriculture\, which we are steeped in passion about! We will start with a tour of the Grain Hub\, Dry Land Distillers' new expansion space. It will be the first integrated regenerative grain hub in the country\, helping growers\, millers\, distillers\, and brewers access regenerative grains. We'll then walk 6 blocks to Dry land where you'll hear from farmers\, makers\, and organizations shaping more sustainable systems. Tastings from sustainable food and spirit activists Taylor & Maddy\, best friends and founders of Anytime Spritz as well as Dry Land spirits and food from local vendors will be offered. This is a chance to learn\, connect\, and raise a glass to what's possible when people care about the land and how things are grown and made.\n\nClick here for more details\, and to RSVP!\n\nMake sure to check calendar updates for themes\, topics\, and guests for each session.
X-ALT-DESC;FMTTYPE=text/html:<p><span style="color:rgb(52\, 73\, 94)\; font-family:arial\,helvetica\,sans-serif">The Distilling Dames are back with a revamped program and partnership with&nbsp\;<a href="https://www.slowfoodboulder.org/" style="box-sizing: inherit\; color: rgb(70\, 129\, 117)\; outline: none\; transition: 0.2s\;">Slow Food Boulder County</a>!</span></p>\n\n<p><span style="color:rgb(52\, 73\, 94)\; font-family:arial\,helvetica\,sans-serif">Join this group of Femme adults on the second Thursday of each month for an eve of cocktails\, bites\, education\, camaraderie\, and discussion that aims to empower and enrich your experience of cocktail culture and the secrets and ways of the distillation process.</span></p>\n\n<p><span style="color:rgb(52\, 73\, 94)\; font-family:arial\,helvetica\,sans-serif">We will host guest speakers that cover a wide array of topics from the history\, techniques\, and preparation of the spirits and choosing ingredients\, to the art\, science\, and nitty gritty that take place in the behind the scenes processes of what eventually ends up in your glass!</span></p>\n\n<p><span style="color:rgb(52\, 73\, 94)\; font-family:arial\,helvetica\,sans-serif">Slow Food adds layers of overlapping food culture principles\, all in the name of Good\, Clean\, and Fair!</span></p>\n\n<p><span style="color:rgb(52\, 73\, 94)\; font-family:arial\,helvetica\,sans-serif">These drop-in meetings are typically $20 and include a cocktail\, nibbles\, and guest presenters. Meetings are the second Thursday of each month\, at Dry Land Distillers\, from 6:30-8:30pm. There is the option to purchase an annual membership at a deep discount which also includes some extra special gifts and sips!</span></p>\n\n<p><span style="color:rgb(52\, 73\, 94)\; font-family:arial\,helvetica\,sans-serif"><strong>This month&#39\;s gathering is all about regenerative agriculture\, which we are steeped in passion about! We will start with a tour of the Grain Hub\, Dry Land Distillers&#39\; new expansion space. It will be the first integrated regenerative grain hub in the country\, helping growers\, millers\, distillers\, and brewers access regenerative grains. We&#39\;ll then walk 6 blocks to Dry land where you&#39\;ll hear from farmers\, makers\, and organizations shaping more sustainable systems. Tastings from sustainable food and spirit activists Taylor &amp\; Maddy\, best friends and founders of&nbsp\;<a href="https://www.anytimespritz.com/">Anytime Spritz&nbsp\;</a></strong><strong>as well as Dry Land spirits and food from local vendors will be offered. This is a chance to learn\, connect\, and raise a glass to what&#39\;s possible when people care about the land and how things are grown and made.</strong></span></p>\n\n<p><span style="color:rgb(52\, 73\, 94)\; font-family:arial\,helvetica\,sans-serif"><a href="https://www.drylanddistillers.com/products/distilling-dames-and-dudes-regenerative-agriculture?vgo_ee=trlflOU%2Foqui%2B2xtQPPoG108HJudUUYVtIti%2FbXHO2JDivNX%3AavmXvhik16ilAg4%2F3J0439iMEBvGnxza" style="box-sizing: inherit\; color: rgb(70\, 129\, 117)\; outline: none\; transition: 0.2s\;">Click here for more details\, and to RSVP!</a></span></p>\n\n<p><span style="color:rgb(52\, 73\, 94)\; font-family:arial\,helvetica\,sans-serif">Make sure to check calendar updates for themes\, topics\, and guests for each session.</span></p>\n
LOCATION:Dry Land Distillers
UID:e.3083.13573
SEQUENCE:3
DTSTAMP:20260421T093947Z
URL:https://members.longmontchamber.org/events/details/distilling-dames-dudes-regenerative-agriculture-13573
END:VEVENT

END:VCALENDAR
