BEGIN:VCALENDAR
VERSION:2.0
PRODID:-//ChamberMaster//Event Calendar 2.0//EN
METHOD:PUBLISH
X-PUBLISHED-TTL:P3D
REFRESH-INTERVAL:P3D
CALSCALE:GREGORIAN
BEGIN:VEVENT
DTSTART:20250815T003000Z
DTEND:20250815T023000Z
X-MICROSOFT-CDO-ALLDAYEVENT:FALSE
SUMMARY:Distilling Dames: The Art of Stone Fruit Cocktails
DESCRIPTION:The Distilling Dames are back with a revamped program and partnership with Slow Food Boulder County!\n\nJoin this group of Femme adults on the second Thursday of each month for an eve of cocktails\, bites\, education\, camaraderie\, and discussion that aims to empower and enrich your experience of cocktail culture and the secrets and ways of the distillation process.\n\nWe will host guest speakers that cover a wide array of topics from the history\, techniques\, and preparation of the spirits and choosing ingredients\, to the art\, science\, and nitty gritty that take place in the behind the scenes processes of what eventually ends up in your glass!\n\nSlow Food adds layers of overlapping food culture principles\, all in the name of Good\, Clean\, and Fair!\n\nThese drop-in meetings are $20 and include a cocktail\, snacks\, and guest presenters. Meetings are the second Thursday of each month\, at Dry Land Distillers\, from 6:30-8:30pm. There is the option to purchase an annual membership at a deep discount which also includes some extra special gifts and sips!\n\nClick here for more details and to RSVP!\n\n This week we will be celebrating peaches\, plums\, apricots\, and the uses of these sweet dominating stone fruits in the world of cocktails! We will slice into and muddle their many juicy uses - from simple syrups and garnishes\, to infusions and bitters. Learn tips for bringing fruit-forward flavor to your home bar\, taste a lineup of delightful stone fruit cocktails\, and mingle with community. \n\nAs a special bonus: we'll be making a homemade fruit fly trap to catch the pesky pests that fruit season can bring!\n\nMake sure to check calendar updates for themes\, topics\, and guests for each session. We look forward to gathering!
X-ALT-DESC;FMTTYPE=text/html:<p><span style="color:rgb(52\, 73\, 94)\; font-family:arial\,helvetica\,sans-serif">The Distilling Dames are back with a revamped program and partnership with&nbsp\;<a href="https://www.slowfoodboulder.org/" style="box-sizing: inherit\; color: rgb(70\, 129\, 117)\; outline: none\; transition: 0.2s\;">Slow Food Boulder County</a>!</span></p>\n\n<p><span style="color:rgb(52\, 73\, 94)\; font-family:arial\,helvetica\,sans-serif">Join this group of Femme adults on the second Thursday of each month for an eve of cocktails\, bites\, education\, camaraderie\, and discussion that aims to empower and enrich your experience of cocktail culture and the secrets and ways of the distillation process.</span></p>\n\n<p><span style="color:rgb(52\, 73\, 94)\; font-family:arial\,helvetica\,sans-serif">We will host guest speakers that cover a wide array of topics from the history\, techniques\, and preparation of the spirits and choosing ingredients\, to the art\, science\, and nitty gritty that take place in the behind the scenes processes of what eventually ends up in your glass!</span></p>\n\n<p><span style="color:rgb(52\, 73\, 94)\; font-family:arial\,helvetica\,sans-serif">Slow Food adds layers of overlapping food culture principles\, all in the name of Good\, Clean\, and Fair!</span></p>\n\n<p><span style="color:rgb(52\, 73\, 94)\; font-family:arial\,helvetica\,sans-serif">These drop-in meetings are $20 and include a cocktail\, snacks\, and guest presenters. Meetings are the second Thursday of each month\, at Dry Land Distillers\, from 6:30-8:30pm. There is the option to purchase an annual membership at a deep discount which also includes some extra special gifts and sips!</span></p>\n\n<p><span style="color:rgb(52\, 73\, 94)\; font-family:arial\,helvetica\,sans-serif"><a href="https://www.slowfoodboulder.org/events-1/the-art-of-peachy-cocktails-stone-fruit-edition" style="box-sizing: inherit\; color: rgb(70\, 129\, 117)\; outline: none\; transition: 0.2s\;">Click here for more details and to RSVP!</a></span></p>\n\n<p><span style="color:rgb(52\, 73\, 94)\; font-family:arial\,helvetica\,sans-serif">&nbsp\;<strong>This week we will be celebrating peaches\, plums\, apricots\, and the uses of these sweet dominating stone fruits in the world of cocktails! We will slice into and muddle their many juicy uses - from simple syrups and garnishes\, to infusions and bitters. Learn tips for bringing fruit-forward flavor to your home bar\, taste a lineup of delightful stone fruit cocktails\, and mingle with community.&nbsp\;</strong></span></p>\n\n<p><span style="color:rgb(52\, 73\, 94)\; font-family:arial\,helvetica\,sans-serif"><strong>As a special bonus: we&#39\;ll be making a homemade fruit fly trap to catch the pesky pests that fruit season can bring!</strong></span></p>\n\n<p><span style="color:rgb(52\, 73\, 94)\; font-family:arial\,helvetica\,sans-serif">Make sure to check calendar updates for themes\, topics\, and guests for each session. We look forward to gathering!</span></p>\n
LOCATION:Dry Land Distillers
UID:e.3083.14209
SEQUENCE:3
DTSTAMP:20260421T082950Z
URL:https://members.longmontchamber.org/events/details/distilling-dames-the-art-of-stone-fruit-cocktails-14209
END:VEVENT

END:VCALENDAR
