BEGIN:VCALENDAR
VERSION:2.0
PRODID:-//ChamberMaster//Event Calendar 2.0//EN
METHOD:PUBLISH
X-PUBLISHED-TTL:P3D
REFRESH-INTERVAL:P3D
CALSCALE:GREGORIAN
BEGIN:VEVENT
DTSTART:20240810T140000Z
DTEND:20240810T180000Z
X-MICROSOFT-CDO-ALLDAYEVENT:FALSE
SUMMARY:Dog Days Of Summer 2024
DESCRIPTION:Come join us for a race around the entirety of beautiful Lake McIntosh! This 3.5 mile race is a half paved/half dirt course surrounded by wonderful mountain views\, vast farmlands\, and beautiful aquatic wildlife! Gather at Dawson Neighborhood park near the pirate ship playground where you will find an assortment of vendors\, music\, games\, and fun! All are welcome to participate in this awesome event! Doggos are encouraged to participate!\n\n! NEW ADDITION ! We are so excited to announce the Kids Dash! Please bring your kiddos to enjoy a mad dash to the finish line near the Pirate Ship Playground at Dawson Park!
X-ALT-DESC;FMTTYPE=text/html:<div>\n<div>\n<div>\n<p>Come join us for a race around the entirety of beautiful Lake McIntosh! This 3.5 mile race is a half paved/half dirt course surrounded by wonderful mountain views\, vast farmlands\, and beautiful aquatic wildlife! Gather at Dawson Neighborhood park near the pirate ship playground where you will find an assortment of vendors\, music\, games\, and fun! All are welcome to participate in this awesome event! <em><strong>Doggos are encouraged to participate!</strong></em></p>\n\n<p>! <strong>NEW ADDITION</strong> ! We are so excited to announce the Kids Dash! Please bring your kiddos to enjoy a mad dash to the finish line near the Pirate Ship Playground at Dawson Park!&nbsp\;</p>\n\n<div>&nbsp\;</div>\n</div>\n</div>\n</div>\n\n<div>&nbsp\;</div>\n
LOCATION:Dawson Park (near the pirate ship playground) @ Lake McIntosh 1757 Harvard St. Longmont\, CO US 80501
UID:e.3083.10154
SEQUENCE:3
DTSTAMP:20260422T032121Z
URL:https://members.longmontchamber.org/events/details/dog-days-of-summer-2024-10154
END:VEVENT

END:VCALENDAR
