BEGIN:VCALENDAR
VERSION:2.0
PRODID:-//ChamberMaster//Event Calendar 2.0//EN
METHOD:PUBLISH
X-PUBLISHED-TTL:P3D
REFRESH-INTERVAL:P3D
CALSCALE:GREGORIAN
BEGIN:VEVENT
DTSTART:20230805T060000Z
DTEND:20230806T050000Z
X-MICROSOFT-CDO-ALLDAYEVENT:FALSE
SUMMARY:Dog Days of Summer 5k and 1k
DESCRIPTION:Come and run your heart out with friends and family\; the four legged and human kinds alike! Dog Days of Summer is a 5k hosted by Evolve Health and Wellness in an effort to raise money for the foundations Smile Train and Team for Kids with Rising New York Road Runners! The race will take place at the beautiful McIntosh Lake! Come and enjoy a beautiful half -paved half-trail course surrounded by wonderful lake and mountain views and scenic open spaces. After the race enjoy music\, food\, beverages\, and games from our wonderful vendors! Feel free to bring SUP's\, kayaks\, fishing poles and more to make a day of it and enjoy this beautiful summer day in Colorado!
X-ALT-DESC;FMTTYPE=text/html:<span style="color:rgb(85\, 85\, 85)\; font-family:roboto\,helvetica neue\,helvetica\,sans-serif\; font-size:15.399999618530273px">Come and run your heart out with friends and family\; the four legged and human kinds alike! Dog Days of Summer is a 5k hosted by Evolve Health and Wellness in an effort to raise money for the foundations Smile Train and Team for Kids with Rising New York Road Runners! The race will take place at the beautiful McIntosh Lake! Come and enjoy a beautiful half -paved half-trail course surrounded by wonderful lake and mountain views and scenic open spaces. After the race enjoy music\, food\, beverages\, and games from our wonderful vendors! Feel free to bring SUP&#39\;s\, kayaks\, fishing poles and more to make a day of it and enjoy this beautiful summer day in Colorado!</span>
LOCATION:Dawson Park and Lake McIntosh in Longmont\, CO!
UID:e.3083.9931
SEQUENCE:3
DTSTAMP:20260422T232908Z
URL:https://members.longmontchamber.org/events/details/dog-days-of-summer-5k-and-1l-9931
END:VEVENT

END:VCALENDAR
