BEGIN:VCALENDAR
VERSION:2.0
PRODID:-//ChamberMaster//Event Calendar 2.0//EN
METHOD:PUBLISH
X-PUBLISHED-TTL:P3D
REFRESH-INTERVAL:P3D
CALSCALE:GREGORIAN
BEGIN:VEVENT
DTSTART:20250306T160000Z
DTEND:20250306T220000Z
X-MICROSOFT-CDO-ALLDAYEVENT:FALSE
SUMMARY:Doing Democracy Day - SVVSD - Longmont Museum
DESCRIPTION:Doing Democracy Day   at the Longmont Museum\n\n\n\nA one-day event to encourage students to engage with local issues. Volunteers act as experts for the students. The students formulate their ideas and create a presentation for judges. "Expert" and "Judges" roles are needed. Topics - Minimum wage\, homelessness\, and mental health . Volunteer opportunities for Experts and Judges\n\n  Experts: 9 AM to 11:30 AM\n\n  Judges: 1 PM to 3 PM\n\n \nDoing Democracy Day is a multi-community\, multi-school event devoted to students wrestling with local issues\, using local leaders (like you) as live resources.  DDD has been a success due to the participation of local leaders and public servants.  Please mark your calendars and RSVP by completing this form or to Kentwillmann@gmail.com \n\n\n\nMost leaders are needed between 9:30-11:30am to serve as live resources for students.  Others are needed as judges from 12:15-3pm.  Local leaders\, educators\, public servants and community members from all St. Vrain communities are invited to share their expertise and opinions as live resources for students (no advanced preparation is necessary).  \n\nWe know you are busy\, so we have focused the time for local leader participation. \n\nDDD Schedule:\n\n 8-9:15 am - Students arrive\, welcome\, keynote and begin issue research\n\n*9:30-11:30am - Leader Interviews - We need your help most in the morning as live resources.\n\n11:30-12:00pm - Lunch - Feel free to join us and the students for lunch on us.\n\n*12:15-3:00pm - Semi-Finals and Finals - A few leaders are needed to serve as American Idol-style judges for student presentations.\n\n*Leaders needed\n\nContact me for more information.  Kentwillmann@gmail.com
X-ALT-DESC;FMTTYPE=text/html:<span style="font-size:18px\;">Doing Democracy Day &ndash\; at the Longmont Museum</span><br />\n<br />\n<span style="font-size:18px\;">A one-day event to encourage students to engage with local issues.&nbsp\;Volunteers act as experts for the students. The students formulate their ideas and create a presentation for judges.&nbsp\;&ldquo\;Expert&rdquo\; and &ldquo\;Judges&rdquo\; roles are needed.&nbsp\;Topics - Minimum wage\, homelessness\, and mental health .&nbsp\;Volunteer opportunities for Experts and Judges<br />\n&bull\; Experts: 9 AM to 11:30 AM<br />\n&bull\; Judges: 1 PM to 3 PM</span><br />\n&nbsp\;\n<p dir="ltr" font-size:="" helvetica="" line-height:="" margin-bottom:="" margin-top:="" segoe="" ui="" web="" west="">Doing Democracy Day is a multi-community\, multi-school event devoted to students wrestling with local issues\, using local leaders (like you) as live resources.&nbsp\; DDD has been a success due to the participation of local leaders and public servants.&nbsp\; Please mark your calendars and<a data-auth="NotApplicable" data-linkindex="0" href="https://docs.google.com/forms/d/e/1FAIpQLSdyl2wq3zSqI3OK6_vwdlwkncx0xPf23RiXpjIWBl6M9NwJjw/viewform?usp=header" title="https://docs.google.com/forms/d/e/1FAIpQLSdyl2wq3zSqI3OK6_vwdlwkncx0xPf23RiXpjIWBl6M9NwJjw/viewform?usp=header">&nbsp\;RSVP by completing this form</a>&nbsp\;or to&nbsp\;<a data-linkindex="1" href="mailto:Kentwillmann@gmail.com" title="mailto:Kentwillmann@gmail.com">Kentwillmann@gmail.com&nbsp\;</a><br />\n<br />\nMost leaders are needed between 9:30-11:30am to serve as live resources for students.&nbsp\; Others are needed as judges from 12:15-3pm.&nbsp\; Local leaders\, educators\, public servants and community members from all St. Vrain communities are invited to share their expertise and opinions as live resources for students (no advanced preparation is necessary).&nbsp\;&nbsp\;</p>\n\n<p dir="ltr" font-size:="" helvetica="" line-height:="" margin-bottom:="" margin-top:="" segoe="" ui="" web="" west="">We know you are busy\, so we have focused the time for local leader participation.&nbsp\;</p>\n\n<p dir="ltr" font-size:="" helvetica="" line-height:="" margin-bottom:="" margin-top:="" segoe="" ui="" web="" west="">DDD Schedule:</p>\n\n<p dir="ltr" font-size:="" helvetica="" line-height:="" margin-bottom:="" margin-top:="" segoe="" ui="" web="" west="">&nbsp\;8-9:15 am - Students arrive\, welcome\, keynote and begin issue research</p>\n\n<p dir="ltr" font-size:="" helvetica="" line-height:="" margin-bottom:="" margin-top:="" segoe="" ui="" web="" west=""><strong>*9:30-11:30am - Leader Interviews - We need your help most in the morning as live resources.</strong></p>\n\n<p dir="ltr" font-size:="" helvetica="" line-height:="" margin-bottom:="" margin-top:="" segoe="" ui="" web="" west="">11:30-12:00pm - Lunch - Feel free to join us and the students for lunch on us.</p>\n\n<p dir="ltr" font-size:="" helvetica="" line-height:="" margin-bottom:="" margin-top:="" segoe="" ui="" web="" west=""><strong>*12:15-3:00pm - Semi-Finals and Finals - A few leaders are needed to serve as American Idol-style judges for student presentations.</strong></p>\n\n<p dir="ltr" font-size:="" helvetica="" line-height:="" margin-bottom:="" margin-top:="" segoe="" ui="" web="" west=""><strong>*Leaders needed</strong></p>\n\n<p dir="ltr" font-size:="" helvetica="" line-height:="" margin-bottom:="" margin-top:="" segoe="" ui="" web="" west="">Contact me for more information.&nbsp\;&nbsp\;<a data-linkindex="2" href="mailto:Kentwillmann@gmail.com" title="mailto:Kentwillmann@gmail.com">Kentwillmann@gmail.com</a></p>\n
LOCATION:Longmont Museum
UID:e.3083.11146
SEQUENCE:3
DTSTAMP:20260421T160149Z
URL:https://members.longmontchamber.org/events/details/doing-democracy-day-svvsd-longmont-museum-11146
END:VEVENT

END:VCALENDAR
