BEGIN:VCALENDAR
VERSION:2.0
PRODID:-//ChamberMaster//Event Calendar 2.0//EN
METHOD:PUBLISH
X-PUBLISHED-TTL:P3D
REFRESH-INTERVAL:P3D
CALSCALE:GREGORIAN
BEGIN:VEVENT
DTSTART:20250913T000000Z
DTEND:20250913T033000Z
X-MICROSOFT-CDO-ALLDAYEVENT:FALSE
SUMMARY:Drums & Space: 2nd Annual Summerfest
DESCRIPTION:Drums & Space will be joined by the Djembe Orchestra for their 2nd annual summerfest! Celebrate the end\n\nof summer with good music\, good beer\, and even greater friends.\n\nThis is a free event\, no tickets required! All ages and dog friendly.
X-ALT-DESC;FMTTYPE=text/html:<p>Drums &amp\; Space will be joined by the Djembe Orchestra for their 2nd annual summerfest! Celebrate the end<br />\nof summer with good music\, good beer\, and even greater friends.</p>\n\n<p>This is a free event\, no tickets required! All ages and dog friendly.</p>\n
LOCATION:Wibby Brewing
UID:e.3083.14232
SEQUENCE:3
DTSTAMP:20260421T063941Z
URL:https://members.longmontchamber.org/events/details/drums-space-2nd-annual-summerfest-14232
END:VEVENT

END:VCALENDAR
