BEGIN:VCALENDAR
VERSION:2.0
PRODID:-//ChamberMaster//Event Calendar 2.0//EN
METHOD:PUBLISH
X-PUBLISHED-TTL:P3D
REFRESH-INTERVAL:P3D
CALSCALE:GREGORIAN
BEGIN:VEVENT
DTSTART:20250816T000000Z
DTEND:20250816T030000Z
X-MICROSOFT-CDO-ALLDAYEVENT:FALSE
SUMMARY:Drunken Hearts Album Release feat. Bill McKay & Justin Garber
DESCRIPTION:Yeehaw! We're headed back to one of our favorite venues in the land\, @wibbybrewing in Longmont\, CO! Join us on Friday\, August 15th for a special night of music with friends featuring the one and only @billmckaymusic on keys! It's a double header as we're also celebrating the release of @justingarbermusic's debut album\, "Family Tree!"\n\nThis is a FREE\, ALL AGES show starting at 6pm!\n\nOver the last decade\, Drunken Hearts have carved out their own space in the country / Americana landscape\, blending the heart of folk\, the soul of country\, and the raw power of rock 'n' roll. Originally hailing from Louisiana and raised in Colorado\, the band is lead by singer-songwriter Andrew McConathy\, whose storytelling lyrics and commanding stage presence have been the driving force behind their evolution from an acoustic trio to a five piece rock n' roll band described as "a psychedelic\, outlaw-country outfit who evoke the best of songwriters like Townes Van Zandt and Steve Earle colored with classic rock flourishes reminiscent of the Allman Brothers\, Neil Young\, and Tom Petty." (Tim Newby\, Americana-UK)\n\nFormed in 2010\, Andrew & company have grown from a grassroots band into a powerhouse in the Country / Americana scenes\, known for their infectious live shows and genre-defying spirit. Their sound is deeply rooted in the rugged landscapes of the American west\, evoking both the solitude of wide-open plains and the grit of small mountain towns while their songs paint vivid pictures of life's highs and lows\, covering everything from love and heartbreak to resilience and redemption. Drunken Hearts continue to push boundaries with a refined sound that reflects their journey from local Colorado stages to national recognition.\n\nAs 2025 unfolds\, the band builds off their past efforts with a new collection of songs that capture the complexity of the human experience. McConathy's introspective songwriting is complemented by the group's seamless interplay between acoustic and electric guitars\, driving rhythms\, piano and organ\, and rich harmonies. In addition to their musical achievements\, the band is known for its commitment to their community and the environment. McConathy\, also the founder of Colorado's Yarmony Music Festival\, has used his platform to support sustainable practices and promote music as a positive force for bringing people together. The band's connection to the land and its people is a constant theme in their music and in the lives they lead offstage.\n\nwww.thedrunkenhearts.com\n\nJustin Garber is a singer / songwriter from Longmont\, Colorado. Rooted in Americana\, Garber's take on the genre is emotional and thought provoking. His debut record "Family Tree" co-produced by David Johnston of Yonder Mountain String Band was released on May 9th\, 2025.
X-ALT-DESC;FMTTYPE=text/html:<div>Yeehaw! We&#39\;re headed back to one of our favorite venues in the land\, @wibbybrewing in Longmont\, CO! Join us on Friday\, August 15th for a special night of music with friends featuring the one and only @billmckaymusic on keys! It&#39\;s a double header as we&#39\;re also celebrating the release of @justingarbermusic&#39\;s debut album\, &quot\;Family Tree!&quot\;</div>\n\n<div>This is a FREE\, ALL AGES show starting at 6pm!</div>\n\n<div>Over the last decade\, Drunken Hearts have carved out their own space in the country / Americana landscape\, blending the heart of folk\, the soul of country\, and the raw power of rock &lsquo\;n&rsquo\; roll. Originally hailing from Louisiana and raised in Colorado\, the band is lead by singer-songwriter Andrew McConathy\, whose storytelling lyrics and commanding stage presence have been the driving force behind their evolution from an acoustic trio to a five piece rock n&rsquo\; roll band described as &ldquo\;a psychedelic\, outlaw-country outfit who evoke the best of songwriters like Townes Van Zandt and Steve Earle colored with classic rock flourishes reminiscent of the Allman Brothers\, Neil Young\, and Tom Petty.&rdquo\; (Tim Newby\, Americana-UK)</div>\n\n<div>Formed in 2010\, Andrew &amp\; company have grown from a grassroots band into a powerhouse in the Country / Americana scenes\, known for their infectious live shows and genre-defying spirit. Their sound is deeply rooted in the rugged landscapes of the American west\, evoking both the solitude of wide-open plains and the grit of small mountain towns while their songs paint vivid pictures of life&rsquo\;s highs and lows\, covering everything from love and heartbreak to resilience and redemption. Drunken Hearts continue to push boundaries with a refined sound that reflects their journey from local Colorado stages to national recognition.</div>\n\n<div>As 2025 unfolds\, the band builds off their past efforts with a new collection of songs that capture the complexity of the human experience. McConathy&rsquo\;s introspective songwriting is complemented by the group&rsquo\;s seamless interplay between acoustic and electric guitars\, driving rhythms\, piano and organ\, and rich harmonies. In addition to their musical achievements\, the band is known for its commitment to their community and the environment. McConathy\, also the founder of Colorado&rsquo\;s Yarmony Music Festival\, has used his platform to support sustainable practices and promote music as a positive force for bringing people together. The band&rsquo\;s connection to the land and its people is a constant theme in their music and in the lives they lead offstage.</div>\n\n<div><a class="x1i10hfl xjbqb8w x1ejq31n x18oe1m7 x1sy0etr xstzfhl x972fbf x10w94by x1qhh985 x14e42zd x9f619 x1ypdohk xt0psk2 xe8uvvx xdj266r x14z9mp xat24cr x1lziwak xexx8yu xyri2b x18d9i69 x1c1uobl x16tdsg8 x1hl2dhg xggy1nq x1a2a7pz xkrqix3 x1sur9pj x1fey0fg x1s688f" href="https://l.facebook.com/l.php?u=http%3A%2F%2Fwww.thedrunkenhearts.com%2F%3Ffbclid%3DIwZXh0bgNhZW0CMTAAYnJpZBExdEtSYlJ5Q1V3MktsVDBrNgEexdRkOWVM-UuCedGdE5va7LWoC1vdriUTpXqEtf9dX1Z3bk4HyVsIVa_ZXtU_aem_Mk3dI1VGHTUrDatstOPafQ&amp\;h=AT2h1Zj9JPw_ZAMIjUhpnbRCx-mIklpBJXi1SOzl7g-GnEI1O5x7cJX0UozLrBKTAqCyhh64YzCFzhTC8OTr8P0ZE6KXUGRF0U2vaO7aKLAS5kkLyvTPn1rny1JAYwVVOnk5tUYbJ2SAGvw2nEFrhQ&amp\;__tn__=q&amp\;c[0]=AT0Bw4ItHWafazPKvxQHtQxU1nwzOeDz7yrHMmO2yeu9TjqbzlQAlEcq3tziXcm2zK10ti_YaQQXxef-iEMzm1ZAWButhF6sWEnfCuJUO9q0xhHeDt1R3b0AE3zKvFVZx8y0qjGIIjdGAmDJ4TI8ONCEbhOyCrk_cfE" rel="nofollow noreferrer" style="color: var(--blue-link)\; cursor: pointer\; text-decoration-line: none\; list-style: none\; border-width: 0px\; margin: 0px\; text-align: inherit\; border-style: none\; padding: 0px\; box-sizing: border-box\; background-color: transparent\; outline: none\; -webkit-tap-highlight-color: transparent\; font-weight: 600\; touch-action: manipulation\; display: inline\; font-family: inherit\;" tabindex="0" target="_blank">www.thedrunkenhearts.com</a></div>\n\n<div>Justin Garber is a singer / songwriter from Longmont\, Colorado. Rooted in Americana\, Garber&rsquo\;s take on the genre is emotional and thought provoking. His debut record &quot\;Family Tree&quot\; co-produced by David Johnston of Yonder Mountain String Band was released on May 9th\, 2025.</div>\n
LOCATION:Wibby Brewing at 209 Emery St. in Longmont\, CO 80501
UID:e.3083.13595
SEQUENCE:3
DTSTAMP:20260421T082906Z
URL:https://members.longmontchamber.org/events/details/drunken-hearts-album-release-feat-bill-mckay-justin-garber-13595
END:VEVENT

END:VCALENDAR
