BEGIN:VCALENDAR
VERSION:2.0
PRODID:-//ChamberMaster//Event Calendar 2.0//EN
METHOD:PUBLISH
X-PUBLISHED-TTL:P3D
REFRESH-INTERVAL:P3D
CALSCALE:GREGORIAN
BEGIN:VEVENT
DTSTART:20251003T230000Z
DTEND:20251004T020000Z
X-MICROSOFT-CDO-ALLDAYEVENT:FALSE
SUMMARY:Drunken Hearts @ Wibby FestGarten
DESCRIPTION:Drunken Hearts are returning to the FestGarten stage for another free show on October 3rd\, 2025! Ring in fall with the sound of nostalgia (and the taste of award-winning craft beer). All ages. Dog Friendly. GF & NA options available.
X-ALT-DESC;FMTTYPE=text/html:<span style="font-family:poppins\,sans-serif\; font-size:14px">Drunken Hearts are returning to the FestGarten stage for another free show on October 3rd\, 2025! Ring in fall with the sound of nostalgia (and the taste of award-winning craft beer). All ages. Dog Friendly. GF &amp\; NA options available.</span>
LOCATION:Wibby Brewing
UID:e.3083.14253
SEQUENCE:3
DTSTAMP:20260421T051515Z
URL:https://members.longmontchamber.org/events/details/drunken-hearts-wibby-festgarten-14253
END:VEVENT

END:VCALENDAR
