BEGIN:VCALENDAR
VERSION:2.0
PRODID:-//ChamberMaster//Event Calendar 2.0//EN
METHOD:PUBLISH
X-PUBLISHED-TTL:P3D
REFRESH-INTERVAL:P3D
CALSCALE:GREGORIAN
BEGIN:VEVENT
DTSTART:20250215T230000Z
DTEND:20250216T050000Z
X-MICROSOFT-CDO-ALLDAYEVENT:FALSE
SUMMARY:Dry Land Artist Series Collaboration Whiskey Release!
DESCRIPTION:Dry Land Distillers and Wood's High Mountain Distillery are excited to release Tread Lightly\, our first collaboration whiskey. Tread Lightly is a blend of two spirits from award-winning Colorado distilleries  - the high mountain\, adventurous flavors from Wood's Tenderfoot Malt Whiskey and the artisanal flavors from Dry Land native wheat light whiskey. This rare spirit is celebrated with original label artwork by renown Colorado artist John Cross. John brings the sense of adventure and wonder of Colorado's outdoors in his painting using a natural color palette that brings the landscape to life.\n\n\n\nTread Lightly will be released at both distilleries on Valentine's Day weekend\, the perfect time to celebrate a partnership. Wood's High Mountain Distillery will host a whiskey release party on Friday\, February 14th at their distillery in Salida. Festivities and bottle sales start at 4 pm and continue through the evening.\n\n\n\nDry Land Distillers will release Tread Lightly in Longmont on Saturday\, February 15th starting at 4 pm and continuing through the evening.\n\n\n\nMembers of the Dry Land Bottle Club will receive a link to preorder bottles prior to the public release.
X-ALT-DESC;FMTTYPE=text/html:<br />\n<span style="color:rgb(85\, 85\, 85)\; font-family:arial\; font-size:18px">Dry Land Distillers and&nbsp\;</span><strong><a href="https://woodsdistillery.com/" rel="noopener" style="color: rgb(4\, 95\, 180)\; cursor: pointer\; margin: 0px\; outline: none\; padding: 0px\;" target="_blank">Wood&#39\;s High Mountain Distillery</a>&nbsp\;</strong><span style="color:rgb(85\, 85\, 85)\; font-family:arial\; font-size:18px">are excited to release&nbsp\;</span><strong>Tread Lightly</strong><span style="color:rgb(85\, 85\, 85)\; font-family:arial\; font-size:18px">\, our first collaboration whiskey. Tread Lightly is a blend of two spirits from award-winning Colorado distilleries&nbsp\; - the high mountain\, adventurous flavors from Wood&rsquo\;s Tenderfoot Malt Whiskey and the artisanal flavors from Dry Land native wheat light whiskey. This rare spirit is celebrated with original label artwork by renown Colorado artist&nbsp\;</span><strong><a href="https://www.instagram.com/john_cross_art/" rel="noopener" style="color: rgb(4\, 95\, 180)\; cursor: pointer\; margin: 0px\; outline: none\; padding: 0px\;" target="_blank">John Cross</a>.</strong><span style="color:rgb(85\, 85\, 85)\; font-family:arial\; font-size:18px">&nbsp\;John brings the sense of adventure and wonder of Colorado&rsquo\;s outdoors in his painting using a natural color palette that brings the landscape to life.</span><br />\n<br />\n<span style="color:rgb(85\, 85\, 85)\; font-family:arial\; font-size:18px">Tread Lightly will be released at both distilleries on Valentine&rsquo\;s Day weekend\, the perfect time to celebrate a partnership. Wood&rsquo\;s High Mountain Distillery will host a whiskey release party on&nbsp\;</span><strong>Friday\, February 14th at their distillery in Salida.&nbsp\;</strong><span style="color:rgb(85\, 85\, 85)\; font-family:arial\; font-size:18px">Festivities and bottle sales start at 4 pm and continue through the evening.</span><br />\n<br />\n<span style="color:rgb(85\, 85\, 85)\; font-family:arial\; font-size:18px">Dry Land Distillers will release Tread Lightly in Longmont on&nbsp\;</span><strong>Saturday\, February 15th starting at 4 pm</strong><span style="color:rgb(85\, 85\, 85)\; font-family:arial\; font-size:18px">&nbsp\;and continuing through the evening.</span><br />\n<br />\n<em>Members of the&nbsp\;<a href="https://pages.drylanddistillers.com/join/" rel="noopener" style="color: rgb(4\, 95\, 180)\; cursor: pointer\; margin: 0px\; outline: none\; padding: 0px\; font-weight: bold\;" target="_blank">Dry Land Bottle Club</a>&nbsp\;will receive a link to preorder bottles prior to the public release.</em>
LOCATION:Dry Land Distillers
UID:e.3083.10907
SEQUENCE:3
DTSTAMP:20260421T174901Z
URL:https://members.longmontchamber.org/events/details/dry-land-artist-series-collaboration-whiskey-release-10907
END:VEVENT

END:VCALENDAR
