BEGIN:VCALENDAR
VERSION:2.0
PRODID:-//ChamberMaster//Event Calendar 2.0//EN
METHOD:PUBLISH
X-PUBLISHED-TTL:P3D
REFRESH-INTERVAL:P3D
CALSCALE:GREGORIAN
BEGIN:VEVENT
DTSTART:20220728T210000Z
DTEND:20220731T040000Z
X-MICROSOFT-CDO-ALLDAYEVENT:FALSE
SUMMARY:Dry Land Distillers 4th Anniversary Celebration
DESCRIPTION:It's Our 4th Birthday in July - Save the Date!\n\n\nDry Land Distillers is throwing a 4-year anniversary party July 28th - 30th - so save the date! We've got a week of spirits\, music\, food and conversation to celebrate everyone who has supported and helped us grow. Here's a taste of what's to come:\n\n\n\nThursday\, July 28th - Meet the Artisans\n\nWe're celebrating all the creative\, talented people that work behind-the-scenes to create Dry Land Distillers - Farmers\, Maltsters\, Fabricators\, and Purveyors. We'll have guests from Arnusch Farms\, Troubadour Maltings\, Pot and Column\, the Colorado Grain Chain\, Slow Food Boulder County  - and more.\n\n\n	Meet and Greet the Artisans\n	Distillery Tours and Barrel Samples\n	"You Call It" Hour with Guest Mixologists\n\n\n\nFriday\, July 29th - Celebrate Collaborators and Partners\n\nCome say thanks to our wonderful collaborators and partners. Dry Land is proud to host folks including Primitive Beer\, St. Vrain Cidery\, Fairisle Coffee\, The Roost\, Farow\, GB Culinary\, the Longmont Downtown Development Authority and others. These individuals and businesses have supported us through partnerships\, collaborations\, kind words\, and creativity.\n\n\n	Meet the Collaborators and Partners\n	Enjoy Food and Goodies Created by Our Partners\n	Live Music Throughout the Day\n	Sample Limited Release Collaboration Spirits \n\n\n\nSaturday\, July 30th - Celebrate Our Employees\n\nOur Distillery Team - Glen\, Kelly\, Kay\, Kylie\, Claire\, Will\, Owen and John - makes us who we are. Let's thank them for all their hard work\, kindness\, and dedication to their craft. We're creating a giant "Thank You" card on the distillery wall - come in and sign your name and leave a special note of thanks for the team - and we're encouraging everyone to tip generously! Here's what we have planned for Saturday:\n\n\n	Sign the Thank You Card for the Distillery Team\n	Enjoy Live Music Throughout the Day\n	Get a Bottle of Our Special Anniversary Release 2-Year Whiskey\n	Enjoy a Cocktail from the "Employee Favorites" Specials Menu
X-ALT-DESC;FMTTYPE=text/html:<div style="text-align:center"><span style="font-size:18px"><strong>It&#39\;s Our 4th Birthday in July - Save the Date!</strong></span></div>\n<br />\n<span style="font-size:14px"><span style="color:rgb(85\, 85\, 85)\; font-family:arial\,helvetica\,sans">Dry Land Distillers is throwing a <strong>4-year anniversary party July 28th - 30th</strong> - so save the date! We&#39\;ve got a week of spirits\, music\, food and conversation to celebrate everyone who has supported and helped us grow. Here&#39\;s a taste of what&#39\;s to come:</span></span><br />\n<br />\n<span style="font-size:18px"><strong>Thursday\, July 28th - Meet the Artisans</strong></span><br />\n<span style="font-size:14px"><span style="color:rgb(85\, 85\, 85)\; font-family:arial\,helvetica\,sans">We&#39\;re celebrating all the creative\, talented people that work behind-the-scenes to create Dry Land Distillers - Farmers\, Maltsters\, Fabricators\, and Purveyors. We&#39\;ll have guests from <a href="https://drylanddistillers.lt.acemlna.com/Prod/link-tracker?redirectUrl=aHR0cHMlM0ElMkYlMkZ3d3cuYXJudXNjaGZhcm1zLmNvbSUyRg==&amp\;sig=2w2o5eXm578XkRh2pXhUqLuUfp8rr8FTK4w5R1Y2Duhn&amp\;iat=1656613996&amp\;a=%7C%7C223503403%7C%7C&amp\;account=drylanddistillers%2Eactivehosted%2Ecom&amp\;email=0eo6YD36vjA%2BFS2oVqMnvhro6LMioxatp5TNj3UW9Ao%3D&amp\;s=c8a9e5653d37ae1e5dfaf3e327c455b6&amp\;i=123A133A1A928" style="margin: 0px\; outline: none\; padding: 0px\; color: rgb(4\, 95\, 180)\;" target="_blank">Arnusch Farms</a>\, <a href="https://drylanddistillers.lt.acemlna.com/Prod/link-tracker?redirectUrl=aHR0cCUzQSUyRiUyRnd3dy50cm91YmFkb3VybWFsdGluZ3MuY29tJTJG&amp\;sig=vBEcrkX5mvh6bWUSC27ac4QKNqqE4R5u7M6UBkCzWXZ&amp\;iat=1656613996&amp\;a=%7C%7C223503403%7C%7C&amp\;account=drylanddistillers%2Eactivehosted%2Ecom&amp\;email=0eo6YD36vjA%2BFS2oVqMnvhro6LMioxatp5TNj3UW9Ao%3D&amp\;s=c8a9e5653d37ae1e5dfaf3e327c455b6&amp\;i=123A133A1A929" style="margin: 0px\; outline: none\; padding: 0px\; color: rgb(4\, 95\, 180)\;" target="_blank">Troubadour Maltings</a>\, <a href="https://drylanddistillers.lt.acemlna.com/Prod/link-tracker?redirectUrl=aHR0cHMlM0ElMkYlMkZwb3RhbmRjb2x1bW5jby5jb20lMkZhYm91dC1wb3QtYW5kLWNvbHVtbiUyRg==&amp\;sig=4CoR3Xwtb2TatLr8S8XcjhvNunRFgwjZrXiJTL689QZK&amp\;iat=1656613996&amp\;a=%7C%7C223503403%7C%7C&amp\;account=drylanddistillers%2Eactivehosted%2Ecom&amp\;email=0eo6YD36vjA%2BFS2oVqMnvhro6LMioxatp5TNj3UW9Ao%3D&amp\;s=c8a9e5653d37ae1e5dfaf3e327c455b6&amp\;i=123A133A1A930" style="margin: 0px\; outline: none\; padding: 0px\; color: rgb(4\, 95\, 180)\;" target="_blank">Pot and Column</a>\, the <a href="https://drylanddistillers.lt.acemlna.com/Prod/link-tracker?redirectUrl=aHR0cHMlM0ElMkYlMkZ3d3cuY29sb3JhZG9ncmFpbmNoYWluLmNvbSUyRg==&amp\;sig=W6Vn6kCmv3KMju8qPanZQ13pqC6reFmne6mAgph5Jrw&amp\;iat=1656613996&amp\;a=%7C%7C223503403%7C%7C&amp\;account=drylanddistillers%2Eactivehosted%2Ecom&amp\;email=0eo6YD36vjA%2BFS2oVqMnvhro6LMioxatp5TNj3UW9Ao%3D&amp\;s=c8a9e5653d37ae1e5dfaf3e327c455b6&amp\;i=123A133A1A931" style="margin: 0px\; outline: none\; padding: 0px\; color: rgb(4\, 95\, 180)\;" target="_blank">Colorado Grain Chain</a>\, <a href="https://drylanddistillers.lt.acemlna.com/Prod/link-tracker?redirectUrl=aHR0cHMlM0ElMkYlMkZ3d3cuc2xvd2Zvb2Rib3VsZGVyLm9yZyUyRg==&amp\;sig=AQtw8DyedqTwntijv2B4wWtL9eRtup8BF8B1SfYw72Eq&amp\;iat=1656613996&amp\;a=%7C%7C223503403%7C%7C&amp\;account=drylanddistillers%2Eactivehosted%2Ecom&amp\;email=0eo6YD36vjA%2BFS2oVqMnvhro6LMioxatp5TNj3UW9Ao%3D&amp\;s=c8a9e5653d37ae1e5dfaf3e327c455b6&amp\;i=123A133A1A932" style="margin: 0px\; outline: none\; padding: 0px\; color: rgb(4\, 95\, 180)\;" target="_blank">Slow Food Boulder County</a>&nbsp\; - and more.</span></span>\n\n<ul>\n	<li><span style="font-size:14px">Meet and Greet the Artisans</span></li>\n	<li><span style="font-size:14px">Distillery Tours and Barrel Samples</span></li>\n	<li><span style="font-size:14px">&quot\;You Call It&quot\; Hour with Guest Mixologists</span></li>\n</ul>\n<br />\n<span style="color:rgb(85\, 85\, 85)\; font-family:arial\,helvetica\,sans\; font-size:18px"><strong>Friday\, July 29th - Celebrate Collaborators and Partners</strong><br />\n<span style="font-size:14px">Come say thanks to our wonderful collaborators and partners. Dry Land is proud to host folks including <a href="https://drylanddistillers.lt.acemlna.com/Prod/link-tracker?redirectUrl=aHR0cHMlM0ElMkYlMkZwcmltaXRpdmUuYmVlciUyRg==&amp\;sig=846K4DxZcYkdDUpdcKn2We9eUs3nVRmWvbD1hwuUKRoa&amp\;iat=1656613996&amp\;a=%7C%7C223503403%7C%7C&amp\;account=drylanddistillers%2Eactivehosted%2Ecom&amp\;email=0eo6YD36vjA%2BFS2oVqMnvhro6LMioxatp5TNj3UW9Ao%3D&amp\;s=c8a9e5653d37ae1e5dfaf3e327c455b6&amp\;i=123A133A1A933" style="margin: 0px\; outline: none\; padding: 0px\; color: rgb(4\, 95\, 180)\;" target="_blank">Primitive Beer</a>\, <a href="https://drylanddistillers.lt.acemlna.com/Prod/link-tracker?redirectUrl=aHR0cHMlM0ElMkYlMkZzdHZyYWluY2lkZXJ5LmNvbSUyRg==&amp\;sig=BoPPi49FMvMormDv4iuBWSqr2NTZA9Skpsa7fD6LYiB5&amp\;iat=1656613996&amp\;a=%7C%7C223503403%7C%7C&amp\;account=drylanddistillers%2Eactivehosted%2Ecom&amp\;email=0eo6YD36vjA%2BFS2oVqMnvhro6LMioxatp5TNj3UW9Ao%3D&amp\;s=c8a9e5653d37ae1e5dfaf3e327c455b6&amp\;i=123A133A1A934" style="margin: 0px\; outline: none\; padding: 0px\; color: rgb(4\, 95\, 180)\;" target="_blank">St. Vrain Cidery</a>\, <a href="https://drylanddistillers.lt.acemlna.com/Prod/link-tracker?redirectUrl=aHR0cHMlM0ElMkYlMkZ3d3cuZmFpcmlzbGVjb2ZmZWUuY29tJTJG&amp\;sig=J2Bco9zskx63J2XxU3UavYDUaRf2Wfsdqx5RHjaJAxTF&amp\;iat=1656613996&amp\;a=%7C%7C223503403%7C%7C&amp\;account=drylanddistillers%2Eactivehosted%2Ecom&amp\;email=0eo6YD36vjA%2BFS2oVqMnvhro6LMioxatp5TNj3UW9Ao%3D&amp\;s=c8a9e5653d37ae1e5dfaf3e327c455b6&amp\;i=123A133A1A935" style="margin: 0px\; outline: none\; padding: 0px\; color: rgb(4\, 95\, 180)\;" target="_blank">Fairisle Coffee</a>\, <a href="https://drylanddistillers.lt.acemlna.com/Prod/link-tracker?redirectUrl=aHR0cHMlM0ElMkYlMkZ0aGVyb29zdGxvbmdtb250LmNvbSUyRg==&amp\;sig=8nARD5rfRhNV26URAVWdQ9tW4AUw3LGU1MTcrNoT71u5&amp\;iat=1656613996&amp\;a=%7C%7C223503403%7C%7C&amp\;account=drylanddistillers%2Eactivehosted%2Ecom&amp\;email=0eo6YD36vjA%2BFS2oVqMnvhro6LMioxatp5TNj3UW9Ao%3D&amp\;s=c8a9e5653d37ae1e5dfaf3e327c455b6&amp\;i=123A133A1A936" style="margin: 0px\; outline: none\; padding: 0px\; color: rgb(4\, 95\, 180)\;" target="_blank">The Roost</a>\, <a href="https://drylanddistillers.lt.acemlna.com/Prod/link-tracker?redirectUrl=aHR0cHMlM0ElMkYlMkZmYXJvd3Jlc3RhdXJhbnQuY29tJTJG&amp\;sig=CMQX12YDwwtTWbscqqzbP6QGHKm58xu1W8JayurUieK&amp\;iat=1656613996&amp\;a=%7C%7C223503403%7C%7C&amp\;account=drylanddistillers%2Eactivehosted%2Ecom&amp\;email=0eo6YD36vjA%2BFS2oVqMnvhro6LMioxatp5TNj3UW9Ao%3D&amp\;s=c8a9e5653d37ae1e5dfaf3e327c455b6&amp\;i=123A133A1A937" style="margin: 0px\; outline: none\; padding: 0px\; color: rgb(4\, 95\, 180)\;" target="_blank">Farow</a>\, <a href="https://drylanddistillers.lt.acemlna.com/Prod/link-tracker?redirectUrl=aHR0cHMlM0ElMkYlMkZ3d3cuZ2JjdWxpbmFyeS5jb20lMkY=&amp\;sig=9gVX6bGJXEgu35CjXW3UTnWK9fQG2sxw1JqjGh7QLmrE&amp\;iat=1656613996&amp\;a=%7C%7C223503403%7C%7C&amp\;account=drylanddistillers%2Eactivehosted%2Ecom&amp\;email=0eo6YD36vjA%2BFS2oVqMnvhro6LMioxatp5TNj3UW9Ao%3D&amp\;s=c8a9e5653d37ae1e5dfaf3e327c455b6&amp\;i=123A133A1A938" style="margin: 0px\; outline: none\; padding: 0px\; color: rgb(4\, 95\, 180)\;" target="_blank">GB Culinary</a>\, the <a href="https://drylanddistillers.lt.acemlna.com/Prod/link-tracker?redirectUrl=aHR0cHMlM0ElMkYlMkZ3d3cuZG93bnRvd25sb25nbW9udC5jb20lMkY=&amp\;sig=HZ6L6HrPmHUg7881ktWFdtRBBXKdpcxDCUfu89b2uFEw&amp\;iat=1656613996&amp\;a=%7C%7C223503403%7C%7C&amp\;account=drylanddistillers%2Eactivehosted%2Ecom&amp\;email=0eo6YD36vjA%2BFS2oVqMnvhro6LMioxatp5TNj3UW9Ao%3D&amp\;s=c8a9e5653d37ae1e5dfaf3e327c455b6&amp\;i=123A133A1A942" style="margin: 0px\; outline: none\; padding: 0px\; color: rgb(4\, 95\, 180)\;">Longmont Downtown Development Authority</a> and others. These individuals and businesses have supported us through partnerships\, collaborations\, kind words\, and creativity.</span></span>\n\n<ul>\n	<li><span style="font-size:14px"><span style="color:rgb(85\, 85\, 85)\; font-family:arial\,helvetica\,sans">Meet the Collaborators and Partners</span></span></li>\n	<li><span style="font-size:14px"><span style="color:rgb(85\, 85\, 85)\; font-family:arial\,helvetica\,sans">Enjoy Food and Goodies Created by Our Partners</span></span></li>\n	<li><span style="font-size:14px"><span style="color:rgb(85\, 85\, 85)\; font-family:arial\,helvetica\,sans">Live Music Throughout the Day</span></span></li>\n	<li><span style="font-size:14px"><span style="color:rgb(85\, 85\, 85)\; font-family:arial\,helvetica\,sans">Sample Limited Release Collaboration Spirits </span></span></li>\n</ul>\n<br />\n<span style="color:rgb(85\, 85\, 85)\; font-family:arial\,helvetica\,sans\; font-size:18px"><strong><span style="font-size:inherit">Satur</span><span style="font-size:inherit">day\, July 30th - Celebrate Our Employees</span></strong><br />\n<span style="font-size:14px"><span style="color:inherit">Our Distillery Team - </span><strong>Glen\, Kelly\, Kay\, Kylie\, Claire\, Will\, Owen and John </strong><span style="color:inherit">- makes us who we are. Let&#39\;s thank them for all their hard work\, kindness\, and dedication to their craft. We&#39\;re creating a giant &quot\;Thank You&quot\; card on the distillery wall - come in and sign your name and leave a special note of thanks for the team - and we&#39\;re encouraging everyone to tip generously! Here&#39\;s what we have planned for Saturday:</span></span></span>\n\n<ul>\n	<li><span style="font-size:14px"><span style="color:rgb(85\, 85\, 85)\; font-family:arial\,helvetica\,sans">Sign the Thank You Card for the Distillery Team</span></span></li>\n	<li><span style="font-size:14px"><span style="color:rgb(85\, 85\, 85)\; font-family:arial\,helvetica\,sans">Enjoy Live Music Throughout the Day</span></span></li>\n	<li><span style="font-size:14px"><span style="color:rgb(85\, 85\, 85)\; font-family:arial\,helvetica\,sans">Get a Bottle of Our Special Anniversary Release 2-Year Whiskey</span></span></li>\n	<li><span style="font-size:14px"><span style="color:rgb(85\, 85\, 85)\; font-family:arial\,helvetica\,sans">Enjoy a Cocktail from the &quot\;Employee Favorites&quot\; Specials Menu</span></span></li>\n</ul>\n
LOCATION:Dry Land Distillers\, 519 Main Street\, Longmont\, CO 80501
UID:e.3083.8825
SEQUENCE:3
DTSTAMP:20260423T193027Z
URL:https://members.longmontchamber.org/events/details/dry-land-distillers-4th-anniversary-celebration-8825
END:VEVENT

END:VCALENDAR
