BEGIN:VCALENDAR
VERSION:2.0
PRODID:-//ChamberMaster//Event Calendar 2.0//EN
METHOD:PUBLISH
X-PUBLISHED-TTL:P3D
REFRESH-INTERVAL:P3D
CALSCALE:GREGORIAN
BEGIN:VEVENT
DTSTART:20250808T210000Z
DTEND:20250811T020000Z
X-MICROSOFT-CDO-ALLDAYEVENT:FALSE
SUMMARY:Dry Land Distillers is Turning Seven - Let's Celebrate All Weekend-Long!
DESCRIPTION:This August marks seven years of Dry Land spirits and we're throwing an All Weekend Long celebration to honor the community that made it all possible! Whether you come for the whiskey\, the music\, the complimentary sweet treats\, or just the good company - we look forward to celebrating with you!\n\nEach day will hold special treats and treasures to experience\, come for one or stay for all!\n\nFriday\, August 8th                                                                                      \n\nAll Day - Library Sale! We're opening the vault into a treasure trove of past releases\, one-of-a-kind finds\, and some vintage well-aged treasures. Quantities are extremely limited - when they're gone\, they're long gone. We'll also have select merchandise and our infamous bar nuts available for purchase.                                          \n\n3 PM - Anniversary Whiskey Release! We're proud to release our first-ever White Sonora Heirloom Wheat Whiskey made with 100% Regenerative Organic Certified grain. This is our first high-proof heirloom release\, bottled at 100 proof\, and it is smooth\, rich and delicately sweet.\n\n6-8 PM - Live Music: Jazz Unit (with Vic Dillahay and Friends!) A longtime favorite in our Music Series\, Vic brings his signature blend of jazz\, wit\, and wide-open tones to the breezeway. He joins the exquisite trumpeter\, Eric Ottem\, and other fine musicians and personalities. Smooth sounds\, good friends\, and fine spirits - the recipe for a perfect summer eve.                        \n\nSaturday\, August 9th                                                                                 \n\nAll Day - Library Sale Continues! More treasures\, same limited quantities.\n\nAll Day - Heirloom Whiskey Available! If you weren't able to get a bottle on Friday\, here's another chance. This super special release tells the story of Dry Land from grain to glass and is crafted with care\, aged with intention\, and is ready to be celebrated and sipped. $107/750ml\n\n11 AM- 5PM - Summer Al Fresco Sidewalk Sale & Maker's Market - Outside Dry Land Distillers! As part of Downtown Longmont's Al Fresco Sidewalk Sale & Market\, Dry Land Distillers and Theresa of Deluxe Barbers & Styling Shop are teaming up to co-host a lively Maker's Market on the block! Stroll by and stay a while to peruse and get to know local vendors artisans\, their handcrafted goods and artistry\, and mingle in the community spirit. There will be vintage fashion & leather goods\, handmade jewelry & accessories\, crochet trinkets & playful fiber art\, layered paper cutout cards & creative crafts\, watercolor\, painted local tree art\, quilting demos & finishing services\, on-site beard trimmings\, and Dry Land merch + limited 7th Anniversary bottle release.\n\nSunday\, August 10th                                                                                  \n\nAll Day Library Sale + Special Release Bottles (While Supplies Last!)\n\n2-5 PM - Dog Days of Summer! Bring your pups and pose with our Dry Land mascot\, Oscar - a classic and attractive Land Cruiser. Every dog gets a treat\, and one lucky four-legged friend will be crowned "Best Distillery Dog"!\n\n2-8 PM - Community Chalk Mural! We'll have a giant chalk mural for guests to fill with inspired art\, poetry\, and Dry Land memories. We'll photograph the mural each evening to preserve your creativity long after the chalk fades.\n\n5-7 PM - Live Music with Adam Bodine! We're wrapping up the weekend festivities with a soulful set from beloved pianist\, Adam Bodine. You likely know his expressive style\, humor\, and touches of magic from our Music Series - what a perfect wrap to a weekend well spent.
X-ALT-DESC;FMTTYPE=text/html:<p>This August marks <strong>seven years of Dry Land spirits</strong> and we&#39\;re throwing an <strong>All Weekend Long&nbsp\;</strong>celebration to honor the community that made it all possible! Whether you come for the whiskey\, the music\, the complimentary sweet treats\, or just the good company - we look forward to celebrating with you!</p>\n\n<p>Each day will hold special treats and treasures to experience\, come for one or stay for all!</p>\n\n<p><u><strong>Friday\, August 8th</strong></u>&nbsp\; &nbsp\; &nbsp\; &nbsp\; &nbsp\; &nbsp\; &nbsp\; &nbsp\; &nbsp\; &nbsp\; &nbsp\; &nbsp\; &nbsp\; &nbsp\; &nbsp\; &nbsp\; &nbsp\; &nbsp\; &nbsp\; &nbsp\; &nbsp\; &nbsp\; &nbsp\; &nbsp\; &nbsp\; &nbsp\; &nbsp\; &nbsp\; &nbsp\; &nbsp\; &nbsp\; &nbsp\; &nbsp\; &nbsp\; &nbsp\; &nbsp\; &nbsp\; &nbsp\; &nbsp\; &nbsp\; &nbsp\; &nbsp\; &nbsp\;&nbsp\;</p>\n\n<p><strong>All Day - Library Sale!</strong>&nbsp\;We&#39\;re opening the vault into a treasure trove of past releases\, one-of-a-kind finds\, and some vintage well-aged treasures. Quantities are extremely limited - when they&#39\;re gone\, they&#39\;re long gone. We&#39\;ll also have select merchandise and our infamous bar nuts available for purchase.&nbsp\; &nbsp\;&nbsp\; &nbsp\; &nbsp\; &nbsp\; &nbsp\;&nbsp\; &nbsp\; &nbsp\; &nbsp\; &nbsp\; &nbsp\; &nbsp\; &nbsp\; &nbsp\; &nbsp\; &nbsp\; &nbsp\; &nbsp\; &nbsp\; &nbsp\;&nbsp\;<br />\n<strong>3 PM - Anniversary Whiskey Release!</strong>&nbsp\;We&#39\;re proud to release our first-ever&nbsp\;<strong>White Sonora Heirloom Wheat Whiskey</strong>&nbsp\;made with&nbsp\;<strong>100% Regenerative Organic Certified</strong>&nbsp\;grain. This is our first high-proof heirloom release\, bottled at&nbsp\;<strong>100 proof</strong>\, and it is smooth\, rich and delicately sweet.</p>\n\n<p><strong>6-8 PM - Live Music: Jazz Unit (with Vic Dillahay and Friends!)</strong>&nbsp\;A longtime favorite in our Music Series\, Vic brings his signature blend of jazz\, wit\, and wide-open tones to the breezeway. He joins the exquisite trumpeter\, Eric Ottem\, and other fine musicians and personalities. Smooth sounds\, good friends\, and fine spirits - the recipe for a perfect summer eve.&nbsp\; &nbsp\; &nbsp\; &nbsp\; &nbsp\; &nbsp\; &nbsp\; &nbsp\; &nbsp\; &nbsp\; &nbsp\; &nbsp\;&nbsp\;</p>\n\n<p><u><strong>Saturday\, August 9th</strong></u>&nbsp\; &nbsp\; &nbsp\; &nbsp\; &nbsp\; &nbsp\; &nbsp\; &nbsp\; &nbsp\; &nbsp\; &nbsp\; &nbsp\; &nbsp\; &nbsp\; &nbsp\; &nbsp\; &nbsp\; &nbsp\; &nbsp\; &nbsp\; &nbsp\; &nbsp\; &nbsp\; &nbsp\; &nbsp\; &nbsp\; &nbsp\; &nbsp\; &nbsp\; &nbsp\; &nbsp\; &nbsp\; &nbsp\; &nbsp\; &nbsp\; &nbsp\; &nbsp\; &nbsp\; &nbsp\; &nbsp\; &nbsp\;</p>\n\n<p><strong>All Day - Library Sale Continues!</strong>&nbsp\;More treasures\, same limited quantities.</p>\n\n<p><strong>All Day - Heirloom Whiskey Available!</strong>&nbsp\;If you weren&#39\;t able to get a bottle on Friday\, here&#39\;s another chance. This super special release tells the story of Dry Land from grain to glass and is crafted with care\, aged with intention\, and is ready to be celebrated and sipped. $107/750ml</p>\n\n<p><strong>11 AM- 5PM - Summer Al Fresco Sidewalk Sale &amp\; Maker&#39\;s Market - Outside Dry Land Distillers!</strong>&nbsp\;As part of Downtown Longmont&#39\;s Al Fresco Sidewalk Sale &amp\; Market\,&nbsp\;<strong>Dry Land Distillers</strong>&nbsp\;and&nbsp\;<strong>Theresa of&nbsp\;<a href="https://www.facebook.com/DeluxeBarbers">Deluxe Barbers &amp\; Styling Shop</a>&nbsp\;</strong>are teaming up to co-host a lively Maker&#39\;s Market on the block! Stroll by and stay a while to peruse and get to know local vendors artisans\, their handcrafted goods and artistry\, and mingle in the community spirit. There will be vintage fashion &amp\; leather goods\, handmade jewelry &amp\; accessories\, crochet trinkets &amp\; playful fiber art\, layered paper cutout cards &amp\; creative crafts\, watercolor\, painted local tree art\, quilting demos &amp\; finishing services\, on-site beard trimmings\, and Dry Land merch + limited 7th Anniversary bottle release.</p>\n\n<p><u><strong>Sunday\, August 10th</strong></u>&nbsp\; &nbsp\; &nbsp\; &nbsp\; &nbsp\; &nbsp\; &nbsp\; &nbsp\; &nbsp\; &nbsp\; &nbsp\; &nbsp\; &nbsp\; &nbsp\; &nbsp\; &nbsp\; &nbsp\; &nbsp\; &nbsp\; &nbsp\; &nbsp\; &nbsp\; &nbsp\; &nbsp\; &nbsp\; &nbsp\; &nbsp\; &nbsp\; &nbsp\; &nbsp\; &nbsp\; &nbsp\; &nbsp\; &nbsp\; &nbsp\; &nbsp\; &nbsp\; &nbsp\; &nbsp\; &nbsp\; &nbsp\;&nbsp\;</p>\n\n<p><strong>All Day Library Sale + Special Release Bottles (While Supplies Last!)</strong></p>\n\n<p><strong>2-5 PM - Dog Days of Summer!</strong>&nbsp\;Bring your pups and pose with our Dry Land mascot\, Oscar - a classic and attractive Land Cruiser. Every dog gets a treat\, and one lucky four-legged friend will be crowned&nbsp\;<strong>&quot\;Best Distillery Dog&quot\;</strong>!</p>\n\n<p><strong>2-8 PM - Community Chalk Mural!</strong>&nbsp\;We&#39\;ll have a giant chalk mural for guests to fill with inspired art\, poetry\, and Dry Land memories. We&#39\;ll photograph the mural each evening to preserve your creativity long after the chalk fades.</p>\n\n<p><strong>5-7 PM - Live Music with Adam Bodine!</strong>&nbsp\;We&#39\;re wrapping up the weekend festivities with a soulful set from beloved pianist\, Adam Bodine. You likely know his expressive style\, humor\, and touches of magic from our Music Series - what a perfect wrap to a weekend well spent.</p>\n
LOCATION:Dry Land Distillers
UID:e.3083.14002
SEQUENCE:3
DTSTAMP:20260421T094319Z
URL:https://members.longmontchamber.org/events/details/dry-land-distillers-is-turning-seven-let-s-celebrate-all-weekend-long-14002
END:VEVENT

END:VCALENDAR
