BEGIN:VCALENDAR
VERSION:2.0
PRODID:-//ChamberMaster//Event Calendar 2.0//EN
METHOD:PUBLISH
X-PUBLISHED-TTL:P3D
REFRESH-INTERVAL:P3D
CALSCALE:GREGORIAN
BEGIN:VEVENT
DTSTART:20251218T020000Z
DTEND:20251218T033000Z
X-MICROSOFT-CDO-ALLDAYEVENT:FALSE
SUMMARY:Dry Land Distillers Music Series: Adam Bodine (Piano)
DESCRIPTION:Dry Land Distillers is honored to host a popular and favorite pianist\, Adam Bodine\, on the third Wednesday of each month from 7-8:30 p.m. as part of our recurring Music Series!\n\nAdam's natural musicality and his joy of playing pairs with his quirky sense of humor to shine as a performer. His shows are a delight\, and he treats audiences to unique and memorable experiences each and every time. Adam has been making a name for himself throughout his home state of Colorado. He currently plays in the house band at eTown\, the illustrious and nationally syndicated radio show and multimedia organization out of Boulder. \n\n\n\nAt eTown\, Adam has accompanied a myriad of popular artists including Rufus Wainwright\, Madison Cunningham\, City and Colour\, Shovels and Rope\, The Milk Carton Kids\, The Secret Sisters\, Bruce Cockburn\, Ron Sexsmith\, Peter Rowan\, Daniel Rodriguez\, Abraham Alexander\, S.G. Goodman\, Allison Russell\, Calexico\, Buffalo Nichols\, Jake Blount\, Parker Millsap\, The Ballroom Thieves\, Mmeadows\, Dom Flemons\, and The War and Treaty.\n\nAdam's performance is the perfect accompaniment to these dark and moody end of year and into Winter eves\, and pairs perfectly with our finely crafted cocktails and warmly welcoming bar team.\n\nThe performance is free\; we encourage a 2-drink minimum to help us support local musicians.\n\nWe look forward to welcoming you into the lounge and sharing in the experience!\n\nCheck our website for up to date changes and guests!
X-ALT-DESC;FMTTYPE=text/html:<p><span style="color:rgb(85\, 85\, 85)\; font-family:arial\,helvetica\,sans\; font-size:18px">Dry Land Distillers is honored to host a popular and favorite pianist\,&nbsp\;<a href="https://drylanddistillers.lt.acemlna.com/Prod/link-tracker?redirectUrl=aHR0cHMlM0ElMkYlMkZhZGFtYm9kaW5lbXVzaWMuY29tJTJG&amp\;sig=zCzCTcCtgN4JznjmDoFzgjb7ECQiaKh4Xt1Wqdqkb8o&amp\;iat=1708469226&amp\;a=%7C%7C223503403%7C%7C&amp\;account=drylanddistillers%2Eactivehosted%2Ecom&amp\;email=ZywaI15l5zRi0R0gAkglnX3cY9WmohHTjQCAmPL7eQZmXtgatdsuQ9ae%3A2WcqKUon96VBgq%2FS4p2JbiYlVnhrkwbw&amp\;s=c8a9e5653d37ae1e5dfaf3e327c455b6&amp\;i=259A270A1A1711" rel="noopener" style="box-sizing: border-box\; color: rgb(4\, 95\, 180)\; text-decoration-line: none\; background-color: transparent\; appearance: none\; display: inline\; padding: 0px\; border: none\; font-size: inherit\; cursor: pointer\; touch-action: manipulation\; margin: 0px\; outline: none\;" target="_blank"><span style="font-size:inherit">Adam Bodine\,</span></a>&nbsp\;on the third Wednesday of each month from 7-8:30 p.m. as part of our recurring Music Series!</span></p>\n\n<p><span style="color:rgb(85\, 85\, 85)\; font-family:arial\,helvetica\,sans\; font-size:18px">Adam&rsquo\;s natural musicality and his joy of playing pairs with his quirky sense of humor to shine as a performer. His shows are a delight\, and he treats audiences to unique and memorable experiences each and every time. Adam has been making a name for himself throughout his home state of Colorado. He currently plays in the house band at&nbsp\;<a href="https://drylanddistillers.lt.acemlna.com/Prod/link-tracker?redirectUrl=aHR0cHMlM0ElMkYlMkZ3d3cuZXRvd24ub3JnJTJG&amp\;sig=A37R8o7FmiQSdaNK3JVkEpFWP18cP3MPGMdKVRGLYg9U&amp\;iat=1708469226&amp\;a=%7C%7C223503403%7C%7C&amp\;account=drylanddistillers%2Eactivehosted%2Ecom&amp\;email=ZywaI15l5zRi0R0gAkglnX3cY9WmohHTjQCAmPL7eQZmXtgatdsuQ9ae%3A2WcqKUon96VBgq%2FS4p2JbiYlVnhrkwbw&amp\;s=c8a9e5653d37ae1e5dfaf3e327c455b6&amp\;i=259A270A1A1712" rel="noopener" style="box-sizing: border-box\; color: rgb(4\, 95\, 180)\; text-decoration-line: none\; background-color: transparent\; appearance: none\; display: inline\; padding: 0px\; border: none\; font-size: inherit\; cursor: pointer\; touch-action: manipulation\; margin: 0px\; outline: none\;" target="_blank"><span style="font-size:inherit">eTown</span></a>\, the illustrious and nationally syndicated radio show and multimedia organization out of Boulder.&nbsp\;<br />\n<br />\nAt eTown\, Adam has accompanied a myriad of popular artists including Rufus Wainwright\, Madison Cunningham\, City and Colour\, Shovels and Rope\, The Milk Carton Kids\, The Secret Sisters\, Bruce Cockburn\, Ron Sexsmith\, Peter Rowan\, Daniel Rodriguez\, Abraham Alexander\, S.G. Goodman\, Allison Russell\, Calexico\, Buffalo Nichols\, Jake Blount\, Parker Millsap\, The Ballroom Thieves\, Mmeadows\, Dom Flemons\, and The War and Treaty.</span></p>\n\n<p><span style="color:rgb(85\, 85\, 85)\; font-family:arial\,helvetica\,sans\; font-size:18px">Adam&#39\;s performance is the perfect accompaniment to these dark and moody end of year and into Winter eves\, and pairs perfectly with our finely crafted cocktails and warmly welcoming bar team.</span></p>\n\n<p><span style="color:rgb(85\, 85\, 85)\; font-family:arial\,helvetica\,sans\; font-size:18px">The performance is free\; we encourage a 2-drink minimum to help us support local musicians.</span></p>\n\n<p><span style="color:rgb(85\, 85\, 85)\; font-family:arial\,helvetica\,sans\; font-size:18px">We look forward to welcoming you into the lounge and sharing in the experience!<br />\nCheck our website for up to date changes and guests!</span></p>\n
LOCATION:Dry Land Distillers 519 Main St. Longmont\, CO 80501
UID:e.3083.10256
SEQUENCE:3
DTSTAMP:20260421T020241Z
URL:https://members.longmontchamber.org/events/details/dry-land-distillers-music-series-adam-bodine-piano-12-17-2025-10256
END:VEVENT

END:VCALENDAR
